BEGIN:VCALENDAR
VERSION:2.0
PRODID:-//https://calenda-formation.labocleo.org
X-WR-CALNAME:Calenda
X-WR-TIMEZONE:Europe/Paris
CALSCALE:GREGORIAN
X-WR-CALDESC:The calendar for arts, humanities and social sciences
METHOD:PUBLISH
BEGIN:VEVENT
DTSTART;VALUE=DATE:20111018
DTEND;VALUE=DATE:20111019
UID:205300-20111018@calenda.revues.org
SUMMARY:Crossed perspectives on time
URL:https://calenda-formation.labocleo.org/205300
DESCRIPTION:Cette journée destinée aux professionnels comme au grand public vise à explorer la question de la temporalité dans divers registres - psychosociologique\, socio politique\, psychanalytique et culturel. Avec Jean-Pierre Boutinet\, professeur émérite\, che… @plus_info https://calenda-formation.labocleo.org/205300
LOCATION:Besançon
END:VEVENT
END:VCALENDAR
