BEGIN:VCALENDAR
VERSION:2.0
PRODID:-//https://calenda-formation.labocleo.org
X-WR-CALNAME:Calenda
X-WR-TIMEZONE:Europe/Paris
CALSCALE:GREGORIAN
X-WR-CALDESC:The calendar for arts, humanities and social sciences
METHOD:PUBLISH
BEGIN:VEVENT
DTSTART;VALUE=DATE:20110919
DTEND;VALUE=DATE:20110920
UID:205307-20110919@calenda.revues.org
SUMMARY:Ciências sociais e saúde. Desafios e temas críticos para os sistemas de saúde 
URL:https://calenda-formation.labocleo.org/205307
DESCRIPTION:Ciências sociais e Saúde. Desafios e temas críticos para os sistemas de saúde é um ciclo de seminários organizado pelo Centro de Estudos Sociais… @plus_info https://calenda-formation.labocleo.org/205307
LOCATION:Coimbra
END:VEVENT
BEGIN:VEVENT
DTSTART;VALUE=DATE:20110322
DTEND;VALUE=DATE:20110323
UID:205307-20110322@calenda.revues.org
SUMMARY:Ciências sociais e saúde. Desafios e temas críticos para os sistemas de saúde 
URL:https://calenda-formation.labocleo.org/205307
DESCRIPTION:Ciências sociais e Saúde. Desafios e temas críticos para os sistemas de saúde é um ciclo de seminários organizado pelo Centro de Estudos Sociais… @plus_info https://calenda-formation.labocleo.org/205307
LOCATION:Coimbra
END:VEVENT
END:VCALENDAR
