BEGIN:VCALENDAR
VERSION:2.0
PRODID:-//https://calenda-formation.labocleo.org
X-WR-CALNAME:Calenda
X-WR-TIMEZONE:Europe/Paris
CALSCALE:GREGORIAN
X-WR-CALDESC:Le calendrier des lettres et sciences humaines et sociales
METHOD:PUBLISH
BEGIN:VEVENT
DTSTART;VALUE=DATE:20111102
DTEND;VALUE=DATE:20111103
UID:205378-20111102@calenda.revues.org
SUMMARY:Archéologie des moulins hydrauliques\, à traction animale et à vent\, des origines à l'époque médiévale
URL:https://calenda-formation.labocleo.org/205378
DESCRIPTION:Les recherches récentes\, et notamment le développement de l'archéologie préventive\, amènent à la multiplication de découvertes de vestiges de moulins antiques ou médiévaux. Le colloque sera l'occasion de faire le point sur le sujet. Outre de nombreus… @plus_info https://calenda-formation.labocleo.org/205378
LOCATION:Lons-le-Saunier
END:VEVENT
BEGIN:VEVENT
DTSTART;VALUE=DATE:20111103
DTEND;VALUE=DATE:20111104
UID:205378-20111103@calenda.revues.org
SUMMARY:Archéologie des moulins hydrauliques\, à traction animale et à vent\, des origines à l'époque médiévale
URL:https://calenda-formation.labocleo.org/205378
DESCRIPTION:Les recherches récentes\, et notamment le développement de l'archéologie préventive\, amènent à la multiplication de découvertes de vestiges de moulins antiques ou médiévaux. Le colloque sera l'occasion de faire le point sur le sujet. Outre de nombreus… @plus_info https://calenda-formation.labocleo.org/205378
LOCATION:Lons-le-Saunier
END:VEVENT
BEGIN:VEVENT
DTSTART;VALUE=DATE:20111104
DTEND;VALUE=DATE:20111105
UID:205378-20111104@calenda.revues.org
SUMMARY:Archéologie des moulins hydrauliques\, à traction animale et à vent\, des origines à l'époque médiévale
URL:https://calenda-formation.labocleo.org/205378
DESCRIPTION:Les recherches récentes\, et notamment le développement de l'archéologie préventive\, amènent à la multiplication de découvertes de vestiges de moulins antiques ou médiévaux. Le colloque sera l'occasion de faire le point sur le sujet. Outre de nombreus… @plus_info https://calenda-formation.labocleo.org/205378
LOCATION:Lons-le-Saunier
END:VEVENT
BEGIN:VEVENT
DTSTART;VALUE=DATE:20111105
DTEND;VALUE=DATE:20111106
UID:205378-20111105@calenda.revues.org
SUMMARY:Archéologie des moulins hydrauliques\, à traction animale et à vent\, des origines à l'époque médiévale
URL:https://calenda-formation.labocleo.org/205378
DESCRIPTION:Les recherches récentes\, et notamment le développement de l'archéologie préventive\, amènent à la multiplication de découvertes de vestiges de moulins antiques ou médiévaux. Le colloque sera l'occasion de faire le point sur le sujet. Outre de nombreus… @plus_info https://calenda-formation.labocleo.org/205378
LOCATION:Lons-le-Saunier
END:VEVENT
END:VCALENDAR
