BEGIN:VCALENDAR
VERSION:2.0
PRODID:-//https://calenda-formation.labocleo.org
X-WR-CALNAME:Calenda
X-WR-TIMEZONE:Europe/Paris
CALSCALE:GREGORIAN
X-WR-CALDESC:The calendar for arts, humanities and social sciences
METHOD:PUBLISH
BEGIN:VEVENT
DTSTART;VALUE=DATE:20111005
DTEND;VALUE=DATE:20111006
UID:205382-20111005@calenda.revues.org
SUMMARY:The genesis of Greek identity
URL:https://calenda-formation.labocleo.org/205382
DESCRIPTION:M. Ortwin Dally\, Professeur\, Deutsches Archäologisches Institut\, Berlin (Allemagne)\, invité par l’Assemblée des Professeurs\, sur la proposition du professeur John Scheid\, donnera une série de leçons sur le sujet suivant : « La genèse de l'identité gr… @plus_info https://calenda-formation.labocleo.org/205382
LOCATION:Paris
END:VEVENT
BEGIN:VEVENT
DTSTART;VALUE=DATE:20111012
DTEND;VALUE=DATE:20111013
UID:205382-20111012@calenda.revues.org
SUMMARY:The genesis of Greek identity
URL:https://calenda-formation.labocleo.org/205382
DESCRIPTION:M. Ortwin Dally\, Professeur\, Deutsches Archäologisches Institut\, Berlin (Allemagne)\, invité par l’Assemblée des Professeurs\, sur la proposition du professeur John Scheid\, donnera une série de leçons sur le sujet suivant : « La genèse de l'identité gr… @plus_info https://calenda-formation.labocleo.org/205382
LOCATION:Paris
END:VEVENT
BEGIN:VEVENT
DTSTART;VALUE=DATE:20111019
DTEND;VALUE=DATE:20111020
UID:205382-20111019@calenda.revues.org
SUMMARY:The genesis of Greek identity
URL:https://calenda-formation.labocleo.org/205382
DESCRIPTION:M. Ortwin Dally\, Professeur\, Deutsches Archäologisches Institut\, Berlin (Allemagne)\, invité par l’Assemblée des Professeurs\, sur la proposition du professeur John Scheid\, donnera une série de leçons sur le sujet suivant : « La genèse de l'identité gr… @plus_info https://calenda-formation.labocleo.org/205382
LOCATION:Paris
END:VEVENT
BEGIN:VEVENT
DTSTART;VALUE=DATE:20111026
DTEND;VALUE=DATE:20111027
UID:205382-20111026@calenda.revues.org
SUMMARY:The genesis of Greek identity
URL:https://calenda-formation.labocleo.org/205382
DESCRIPTION:M. Ortwin Dally\, Professeur\, Deutsches Archäologisches Institut\, Berlin (Allemagne)\, invité par l’Assemblée des Professeurs\, sur la proposition du professeur John Scheid\, donnera une série de leçons sur le sujet suivant : « La genèse de l'identité gr… @plus_info https://calenda-formation.labocleo.org/205382
LOCATION:Paris
END:VEVENT
END:VCALENDAR
