BEGIN:VCALENDAR
VERSION:2.0
PRODID:-//https://calenda-formation.labocleo.org
X-WR-CALNAME:Calenda
X-WR-TIMEZONE:Europe/Paris
CALSCALE:GREGORIAN
X-WR-CALDESC:Le calendrier des lettres et sciences humaines et sociales
METHOD:PUBLISH
BEGIN:VEVENT
DTSTART;VALUE=DATE:20111011
DTEND;VALUE=DATE:20111012
UID:205404-20111011@calenda.revues.org
SUMMARY:La transmission des savoirs dans un contexte scolaire\, XIIIe-XXe siècle (2011-2012)
URL:https://calenda-formation.labocleo.org/205404
DESCRIPTION:Ce séminaire comprend deux types de séances. Les unes\, dans le prolongement du séminaire 2010-2011\, traiteront des pratiques d’enseignement et d’apprentissage\, en mettant l’accent sur les relations entre les savoirs enseignés en contexte scolaire\, le… Weitere Informationen https://calenda-formation.labocleo.org/205404
LOCATION:Paris
END:VEVENT
BEGIN:VEVENT
DTSTART;VALUE=DATE:20111108
DTEND;VALUE=DATE:20111109
UID:205404-20111108@calenda.revues.org
SUMMARY:La transmission des savoirs dans un contexte scolaire\, XIIIe-XXe siècle (2011-2012)
URL:https://calenda-formation.labocleo.org/205404
DESCRIPTION:Ce séminaire comprend deux types de séances. Les unes\, dans le prolongement du séminaire 2010-2011\, traiteront des pratiques d’enseignement et d’apprentissage\, en mettant l’accent sur les relations entre les savoirs enseignés en contexte scolaire\, le… Weitere Informationen https://calenda-formation.labocleo.org/205404
LOCATION:Paris
END:VEVENT
BEGIN:VEVENT
DTSTART;VALUE=DATE:20111213
DTEND;VALUE=DATE:20111214
UID:205404-20111213@calenda.revues.org
SUMMARY:La transmission des savoirs dans un contexte scolaire\, XIIIe-XXe siècle (2011-2012)
URL:https://calenda-formation.labocleo.org/205404
DESCRIPTION:Ce séminaire comprend deux types de séances. Les unes\, dans le prolongement du séminaire 2010-2011\, traiteront des pratiques d’enseignement et d’apprentissage\, en mettant l’accent sur les relations entre les savoirs enseignés en contexte scolaire\, le… Weitere Informationen https://calenda-formation.labocleo.org/205404
LOCATION:Paris
END:VEVENT
BEGIN:VEVENT
DTSTART;VALUE=DATE:20120110
DTEND;VALUE=DATE:20120111
UID:205404-20120110@calenda.revues.org
SUMMARY:La transmission des savoirs dans un contexte scolaire\, XIIIe-XXe siècle (2011-2012)
URL:https://calenda-formation.labocleo.org/205404
DESCRIPTION:Ce séminaire comprend deux types de séances. Les unes\, dans le prolongement du séminaire 2010-2011\, traiteront des pratiques d’enseignement et d’apprentissage\, en mettant l’accent sur les relations entre les savoirs enseignés en contexte scolaire\, le… Weitere Informationen https://calenda-formation.labocleo.org/205404
LOCATION:Paris
END:VEVENT
BEGIN:VEVENT
DTSTART;VALUE=DATE:20120214
DTEND;VALUE=DATE:20120215
UID:205404-20120214@calenda.revues.org
SUMMARY:La transmission des savoirs dans un contexte scolaire\, XIIIe-XXe siècle (2011-2012)
URL:https://calenda-formation.labocleo.org/205404
DESCRIPTION:Ce séminaire comprend deux types de séances. Les unes\, dans le prolongement du séminaire 2010-2011\, traiteront des pratiques d’enseignement et d’apprentissage\, en mettant l’accent sur les relations entre les savoirs enseignés en contexte scolaire\, le… Weitere Informationen https://calenda-formation.labocleo.org/205404
LOCATION:Paris
END:VEVENT
BEGIN:VEVENT
DTSTART;VALUE=DATE:20120313
DTEND;VALUE=DATE:20120314
UID:205404-20120313@calenda.revues.org
SUMMARY:La transmission des savoirs dans un contexte scolaire\, XIIIe-XXe siècle (2011-2012)
URL:https://calenda-formation.labocleo.org/205404
DESCRIPTION:Ce séminaire comprend deux types de séances. Les unes\, dans le prolongement du séminaire 2010-2011\, traiteront des pratiques d’enseignement et d’apprentissage\, en mettant l’accent sur les relations entre les savoirs enseignés en contexte scolaire\, le… Weitere Informationen https://calenda-formation.labocleo.org/205404
LOCATION:Paris
END:VEVENT
BEGIN:VEVENT
DTSTART;VALUE=DATE:20120410
DTEND;VALUE=DATE:20120411
UID:205404-20120410@calenda.revues.org
SUMMARY:La transmission des savoirs dans un contexte scolaire\, XIIIe-XXe siècle (2011-2012)
URL:https://calenda-formation.labocleo.org/205404
DESCRIPTION:Ce séminaire comprend deux types de séances. Les unes\, dans le prolongement du séminaire 2010-2011\, traiteront des pratiques d’enseignement et d’apprentissage\, en mettant l’accent sur les relations entre les savoirs enseignés en contexte scolaire\, le… Weitere Informationen https://calenda-formation.labocleo.org/205404
LOCATION:Paris
END:VEVENT
BEGIN:VEVENT
DTSTART;VALUE=DATE:20120515
DTEND;VALUE=DATE:20120516
UID:205404-20120515@calenda.revues.org
SUMMARY:La transmission des savoirs dans un contexte scolaire\, XIIIe-XXe siècle (2011-2012)
URL:https://calenda-formation.labocleo.org/205404
DESCRIPTION:Ce séminaire comprend deux types de séances. Les unes\, dans le prolongement du séminaire 2010-2011\, traiteront des pratiques d’enseignement et d’apprentissage\, en mettant l’accent sur les relations entre les savoirs enseignés en contexte scolaire\, le… Weitere Informationen https://calenda-formation.labocleo.org/205404
LOCATION:Paris
END:VEVENT
BEGIN:VEVENT
DTSTART;VALUE=DATE:20120612
DTEND;VALUE=DATE:20120613
UID:205404-20120612@calenda.revues.org
SUMMARY:La transmission des savoirs dans un contexte scolaire\, XIIIe-XXe siècle (2011-2012)
URL:https://calenda-formation.labocleo.org/205404
DESCRIPTION:Ce séminaire comprend deux types de séances. Les unes\, dans le prolongement du séminaire 2010-2011\, traiteront des pratiques d’enseignement et d’apprentissage\, en mettant l’accent sur les relations entre les savoirs enseignés en contexte scolaire\, le… Weitere Informationen https://calenda-formation.labocleo.org/205404
LOCATION:Paris
END:VEVENT
END:VCALENDAR
