BEGIN:VCALENDAR
VERSION:2.0
PRODID:-//https://calenda-formation.labocleo.org
X-WR-CALNAME:Calenda
X-WR-TIMEZONE:Europe/Paris
CALSCALE:GREGORIAN
X-WR-CALDESC:The calendar for arts, humanities and social sciences
METHOD:PUBLISH
BEGIN:VEVENT
DTSTART;VALUE=DATE:20111210
DTEND;VALUE=DATE:20111211
UID:205442-20111210@calenda.revues.org
SUMMARY:European PhD Workshop : Intercultural comparisons of  eating habits and food preferences 
URL:https://calenda-formation.labocleo.org/205442
DESCRIPTION:With the PhD Workshop\, the research center of the Institut Paul Bocuse intends to create a unique opportunity for scientific exchanges for PhD students of both the Institut Paul Bocuse and other universities\, without any distinction of discipline. Th… @plus_info https://calenda-formation.labocleo.org/205442
LOCATION:Écully
END:VEVENT
END:VCALENDAR
