BEGIN:VCALENDAR
VERSION:2.0
PRODID:-//https://calenda-formation.labocleo.org
X-WR-CALNAME:Calenda
X-WR-TIMEZONE:Europe/Paris
CALSCALE:GREGORIAN
X-WR-CALDESC:Le calendrier des lettres et sciences humaines et sociales
METHOD:PUBLISH
BEGIN:VEVENT
DTSTART;VALUE=DATE:20110929
DTEND;VALUE=DATE:20110930
UID:205461-20110929@calenda.revues.org
SUMMARY:Crianças e jovens em risco 
URL:https://calenda-formation.labocleo.org/205461
DESCRIPTION:Crianças e jovens em risco. A família no centro da intervenção. Quinta-feira 29 de setembro de 2011\, 10h00 na Fundação Calouste Gulbenkian\, Av. de Berna\, 45-A\, Lisboa\, Portugal. Entrada livre com interpretação simultânea.… Weitere Informationen https://calenda-formation.labocleo.org/205461
LOCATION:Lissabon
END:VEVENT
END:VCALENDAR
