BEGIN:VCALENDAR
VERSION:2.0
PRODID:-//https://calenda-formation.labocleo.org
X-WR-CALNAME:Calenda
X-WR-TIMEZONE:Europe/Paris
CALSCALE:GREGORIAN
X-WR-CALDESC:Le calendrier des lettres et sciences humaines et sociales
METHOD:PUBLISH
BEGIN:VEVENT
DTSTART;VALUE=DATE:20111215
DTEND;VALUE=DATE:20111216
UID:205495-20111215@calenda.revues.org
SUMMARY:L'Europe et ses opposants
URL:https://calenda-formation.labocleo.org/205495
DESCRIPTION:La difficile ratification du traité de Maastricht en France\, avec environ 51% des suffrages exprimés\, et l’intense campagne militante à laquelle donne lieu le référendum du 20 septembre 1992 ont révélé que l’intégration européenne est redevenue un su… @plus_info https://calenda-formation.labocleo.org/205495
LOCATION:Paris
END:VEVENT
END:VCALENDAR
