BEGIN:VCALENDAR
VERSION:2.0
PRODID:-//https://calenda-formation.labocleo.org
X-WR-CALNAME:Calenda
X-WR-TIMEZONE:Europe/Paris
CALSCALE:GREGORIAN
X-WR-CALDESC:Le calendrier des lettres et sciences humaines et sociales
METHOD:PUBLISH
BEGIN:VEVENT
DTSTART;VALUE=DATE:20111201
DTEND;VALUE=DATE:20111202
UID:205511-20111201@calenda.revues.org
SUMMARY:Environnement et santé : quels enjeux\, quels acteurs\, quelle intelligibilité ?
URL:https://calenda-formation.labocleo.org/205511
DESCRIPTION:La revue Développement durable et territoire lance un appel à texte pour un prochain dossier sur la question de la relation entre santé et environnement. Si l’environnement fait l’objet d’une appréhension et d’une surveillance croissantes et si la mé… Más informaciones https://calenda-formation.labocleo.org/205511
LOCATION:
END:VEVENT
END:VCALENDAR
