BEGIN:VCALENDAR
VERSION:2.0
PRODID:-//https://calenda-formation.labocleo.org
X-WR-CALNAME:Calenda
X-WR-TIMEZONE:Europe/Paris
CALSCALE:GREGORIAN
X-WR-CALDESC:Le calendrier des lettres et sciences humaines et sociales
METHOD:PUBLISH
BEGIN:VEVENT
DTSTART;VALUE=DATE:20111120
DTEND;VALUE=DATE:20111121
UID:205565-20111120@calenda.revues.org
SUMMARY:Écritures en migration(s) 
URL:https://calenda-formation.labocleo.org/205565
DESCRIPTION:Appel à communication pour le colloque « Écritures en migration(s) - Histoires d'écrits\, histoires d'exils ». Le colloque aura lieu les 11 et 12 mai 2012\, sur le site de l'Université Paris 8 à Saint-Denis. La thématique générale du colloque s'inscrit… @plus_info https://calenda-formation.labocleo.org/205565
LOCATION:Saint-Denis
END:VEVENT
END:VCALENDAR
