BEGIN:VCALENDAR
VERSION:2.0
PRODID:-//https://calenda-formation.labocleo.org
X-WR-CALNAME:Calenda
X-WR-TIMEZONE:Europe/Paris
CALSCALE:GREGORIAN
X-WR-CALDESC:The calendar for arts, humanities and social sciences
METHOD:PUBLISH
BEGIN:VEVENT
DTSTART;VALUE=DATE:20111115
DTEND;VALUE=DATE:20111116
UID:205625-20111115@calenda.revues.org
SUMMARY:How history affects us
URL:https://calenda-formation.labocleo.org/205625
DESCRIPTION:L’engagement d’un nouveau projet scientifique est pour un laboratoire de recherche l’occasion de faire un point sur des questions d’ordre épistémologique. Parmi celles-ci pointe au LAUA celle de l’écriture de l’histoire contemporaine. Si elle se trou… @plus_info https://calenda-formation.labocleo.org/205625
LOCATION:
END:VEVENT
END:VCALENDAR
