BEGIN:VCALENDAR
VERSION:2.0
PRODID:-//https://calenda-formation.labocleo.org
X-WR-CALNAME:Calenda
X-WR-TIMEZONE:Europe/Paris
CALSCALE:GREGORIAN
X-WR-CALDESC:The calendar for arts, humanities and social sciences
METHOD:PUBLISH
BEGIN:VEVENT
DTSTART;VALUE=DATE:20111215
DTEND;VALUE=DATE:20111216
UID:205690-20111215@calenda.revues.org
SUMMARY:Imagination and History : current issues
URL:https://calenda-formation.labocleo.org/205690
DESCRIPTION:Le laboratoire junior Imag'His\, le LARHRA (LAboratoire de Recherche Historique Rhône-Alpes) et le GRAC (Groupe Renaissance et Age Classique) organisent un colloque international à l'École Normale Supérieure de Lyon les 22\, 23 et 24 novembre 2012\, aya… @plus_info https://calenda-formation.labocleo.org/205690
LOCATION:Lyon
END:VEVENT
END:VCALENDAR
