BEGIN:VCALENDAR
VERSION:2.0
PRODID:-//https://calenda-formation.labocleo.org
X-WR-CALNAME:Calenda
X-WR-TIMEZONE:Europe/Paris
CALSCALE:GREGORIAN
X-WR-CALDESC:Le calendrier des lettres et sciences humaines et sociales
METHOD:PUBLISH
BEGIN:VEVENT
DTSTART;VALUE=DATE:20120511
DTEND;VALUE=DATE:20120512
UID:205705-20120511@calenda.revues.org
SUMMARY:Histoire des sciences de l'homme et de la société 
URL:https://calenda-formation.labocleo.org/205705
DESCRIPTION:Placé sous le patronage de la Société française pour l'histoire des sciences de l'homme (S.F.H.S.H.)\, ce séminaire du Centre Koyré est un forum de discussions sur les problématiques actuelles\, les livres récemment parus et le statut général des archi… Weitere Informationen https://calenda-formation.labocleo.org/205705
LOCATION:Paris
END:VEVENT
BEGIN:VEVENT
DTSTART;VALUE=DATE:20120413
DTEND;VALUE=DATE:20120414
UID:205705-20120413@calenda.revues.org
SUMMARY:Histoire des sciences de l'homme et de la société 
URL:https://calenda-formation.labocleo.org/205705
DESCRIPTION:Placé sous le patronage de la Société française pour l'histoire des sciences de l'homme (S.F.H.S.H.)\, ce séminaire du Centre Koyré est un forum de discussions sur les problématiques actuelles\, les livres récemment parus et le statut général des archi… Weitere Informationen https://calenda-formation.labocleo.org/205705
LOCATION:Paris
END:VEVENT
BEGIN:VEVENT
DTSTART;VALUE=DATE:20120330
DTEND;VALUE=DATE:20120331
UID:205705-20120330@calenda.revues.org
SUMMARY:Histoire des sciences de l'homme et de la société 
URL:https://calenda-formation.labocleo.org/205705
DESCRIPTION:Placé sous le patronage de la Société française pour l'histoire des sciences de l'homme (S.F.H.S.H.)\, ce séminaire du Centre Koyré est un forum de discussions sur les problématiques actuelles\, les livres récemment parus et le statut général des archi… Weitere Informationen https://calenda-formation.labocleo.org/205705
LOCATION:Paris
END:VEVENT
BEGIN:VEVENT
DTSTART;VALUE=DATE:20120316
DTEND;VALUE=DATE:20120317
UID:205705-20120316@calenda.revues.org
SUMMARY:Histoire des sciences de l'homme et de la société 
URL:https://calenda-formation.labocleo.org/205705
DESCRIPTION:Placé sous le patronage de la Société française pour l'histoire des sciences de l'homme (S.F.H.S.H.)\, ce séminaire du Centre Koyré est un forum de discussions sur les problématiques actuelles\, les livres récemment parus et le statut général des archi… Weitere Informationen https://calenda-formation.labocleo.org/205705
LOCATION:Paris
END:VEVENT
BEGIN:VEVENT
DTSTART;VALUE=DATE:20120217
DTEND;VALUE=DATE:20120218
UID:205705-20120217@calenda.revues.org
SUMMARY:Histoire des sciences de l'homme et de la société 
URL:https://calenda-formation.labocleo.org/205705
DESCRIPTION:Placé sous le patronage de la Société française pour l'histoire des sciences de l'homme (S.F.H.S.H.)\, ce séminaire du Centre Koyré est un forum de discussions sur les problématiques actuelles\, les livres récemment parus et le statut général des archi… Weitere Informationen https://calenda-formation.labocleo.org/205705
LOCATION:Paris
END:VEVENT
BEGIN:VEVENT
DTSTART;VALUE=DATE:20120203
DTEND;VALUE=DATE:20120204
UID:205705-20120203@calenda.revues.org
SUMMARY:Histoire des sciences de l'homme et de la société 
URL:https://calenda-formation.labocleo.org/205705
DESCRIPTION:Placé sous le patronage de la Société française pour l'histoire des sciences de l'homme (S.F.H.S.H.)\, ce séminaire du Centre Koyré est un forum de discussions sur les problématiques actuelles\, les livres récemment parus et le statut général des archi… Weitere Informationen https://calenda-formation.labocleo.org/205705
LOCATION:Paris
END:VEVENT
BEGIN:VEVENT
DTSTART;VALUE=DATE:20120120
DTEND;VALUE=DATE:20120121
UID:205705-20120120@calenda.revues.org
SUMMARY:Histoire des sciences de l'homme et de la société 
URL:https://calenda-formation.labocleo.org/205705
DESCRIPTION:Placé sous le patronage de la Société française pour l'histoire des sciences de l'homme (S.F.H.S.H.)\, ce séminaire du Centre Koyré est un forum de discussions sur les problématiques actuelles\, les livres récemment parus et le statut général des archi… Weitere Informationen https://calenda-formation.labocleo.org/205705
LOCATION:Paris
END:VEVENT
BEGIN:VEVENT
DTSTART;VALUE=DATE:20120106
DTEND;VALUE=DATE:20120107
UID:205705-20120106@calenda.revues.org
SUMMARY:Histoire des sciences de l'homme et de la société 
URL:https://calenda-formation.labocleo.org/205705
DESCRIPTION:Placé sous le patronage de la Société française pour l'histoire des sciences de l'homme (S.F.H.S.H.)\, ce séminaire du Centre Koyré est un forum de discussions sur les problématiques actuelles\, les livres récemment parus et le statut général des archi… Weitere Informationen https://calenda-formation.labocleo.org/205705
LOCATION:Paris
END:VEVENT
BEGIN:VEVENT
DTSTART;VALUE=DATE:20111209
DTEND;VALUE=DATE:20111210
UID:205705-20111209@calenda.revues.org
SUMMARY:Histoire des sciences de l'homme et de la société 
URL:https://calenda-formation.labocleo.org/205705
DESCRIPTION:Placé sous le patronage de la Société française pour l'histoire des sciences de l'homme (S.F.H.S.H.)\, ce séminaire du Centre Koyré est un forum de discussions sur les problématiques actuelles\, les livres récemment parus et le statut général des archi… Weitere Informationen https://calenda-formation.labocleo.org/205705
LOCATION:Paris
END:VEVENT
BEGIN:VEVENT
DTSTART;VALUE=DATE:20111125
DTEND;VALUE=DATE:20111126
UID:205705-20111125@calenda.revues.org
SUMMARY:Histoire des sciences de l'homme et de la société 
URL:https://calenda-formation.labocleo.org/205705
DESCRIPTION:Placé sous le patronage de la Société française pour l'histoire des sciences de l'homme (S.F.H.S.H.)\, ce séminaire du Centre Koyré est un forum de discussions sur les problématiques actuelles\, les livres récemment parus et le statut général des archi… Weitere Informationen https://calenda-formation.labocleo.org/205705
LOCATION:Paris
END:VEVENT
BEGIN:VEVENT
DTSTART;VALUE=DATE:20111104
DTEND;VALUE=DATE:20111105
UID:205705-20111104@calenda.revues.org
SUMMARY:Histoire des sciences de l'homme et de la société 
URL:https://calenda-formation.labocleo.org/205705
DESCRIPTION:Placé sous le patronage de la Société française pour l'histoire des sciences de l'homme (S.F.H.S.H.)\, ce séminaire du Centre Koyré est un forum de discussions sur les problématiques actuelles\, les livres récemment parus et le statut général des archi… Weitere Informationen https://calenda-formation.labocleo.org/205705
LOCATION:Paris
END:VEVENT
BEGIN:VEVENT
DTSTART;VALUE=DATE:20111021
DTEND;VALUE=DATE:20111022
UID:205705-20111021@calenda.revues.org
SUMMARY:Histoire des sciences de l'homme et de la société 
URL:https://calenda-formation.labocleo.org/205705
DESCRIPTION:Placé sous le patronage de la Société française pour l'histoire des sciences de l'homme (S.F.H.S.H.)\, ce séminaire du Centre Koyré est un forum de discussions sur les problématiques actuelles\, les livres récemment parus et le statut général des archi… Weitere Informationen https://calenda-formation.labocleo.org/205705
LOCATION:Paris
END:VEVENT
END:VCALENDAR
