BEGIN:VCALENDAR
VERSION:2.0
PRODID:-//https://calenda-formation.labocleo.org
X-WR-CALNAME:Calenda
X-WR-TIMEZONE:Europe/Paris
CALSCALE:GREGORIAN
X-WR-CALDESC:The calendar for arts, humanities and social sciences
METHOD:PUBLISH
BEGIN:VEVENT
DTSTART;VALUE=DATE:20111030
DTEND;VALUE=DATE:20111030
UID:205744-20111030@calenda.revues.org
SUMMARY:Autoformation\, quête de sens\, altérité : des relations en questions
URL:https://calenda-formation.labocleo.org/205744
DESCRIPTION:Autoformation\, quête de sens\, altérité : des relations en questions\, journées du GRAF\, organisées avec le laboratoire Experice Paris 8-Paris13\, les vendredi 18 (de 9h30 à 17h30) et samedi 19 Novembre 2011 (9h00 à 13h00)\, au CNAM\, Amphi A\, 292 rue Sai… @plus_info https://calenda-formation.labocleo.org/205744
LOCATION:Paris
END:VEVENT
END:VCALENDAR
