BEGIN:VCALENDAR
VERSION:2.0
PRODID:-//https://calenda-formation.labocleo.org
X-WR-CALNAME:Calenda
X-WR-TIMEZONE:Europe/Paris
CALSCALE:GREGORIAN
X-WR-CALDESC:Le calendrier des lettres et sciences humaines et sociales
METHOD:PUBLISH
BEGIN:VEVENT
DTSTART;VALUE=DATE:20120131
DTEND;VALUE=DATE:20120201
UID:205806-20120131@calenda.revues.org
SUMMARY:Circulation internationale des connaissances : enjeux académiques et scientifiques aux Suds
URL:https://calenda-formation.labocleo.org/205806
DESCRIPTION:Colloque international organisé par  l’IRD (Institut de recherche pour le développement\, Marseille\, Mexico)\, le CINVESTAV (Centro de Investigación y de Estudios Avanzados del Instituto Politécnico Nacional / Departamento de Investigaciones Educativas… @plus_info https://calenda-formation.labocleo.org/205806
LOCATION:Mexico
END:VEVENT
END:VCALENDAR
