BEGIN:VCALENDAR
VERSION:2.0
PRODID:-//https://calenda-formation.labocleo.org
X-WR-CALNAME:Calenda
X-WR-TIMEZONE:Europe/Paris
CALSCALE:GREGORIAN
X-WR-CALDESC:Le calendrier des lettres et sciences humaines et sociales
METHOD:PUBLISH
BEGIN:VEVENT
DTSTART;VALUE=DATE:20111103
DTEND;VALUE=DATE:20111104
UID:205836-20111103@calenda.revues.org
SUMMARY:Histoire du Japon moderne et contemporain : permanences et ruptures (2011-2012)
URL:https://calenda-formation.labocleo.org/205836
DESCRIPTION:Dans le cadre du séminaire collectif du Centre de recherches sur le Japon 2011-2012\, seront données onze conférences présentant des recherches novatrices et des travaux récents en sciences humaines et sociales sur le Japon moderne et contemporain.… Más informaciones https://calenda-formation.labocleo.org/205836
LOCATION:París
END:VEVENT
BEGIN:VEVENT
DTSTART;VALUE=DATE:20111117
DTEND;VALUE=DATE:20111118
UID:205836-20111117@calenda.revues.org
SUMMARY:Histoire du Japon moderne et contemporain : permanences et ruptures (2011-2012)
URL:https://calenda-formation.labocleo.org/205836
DESCRIPTION:Dans le cadre du séminaire collectif du Centre de recherches sur le Japon 2011-2012\, seront données onze conférences présentant des recherches novatrices et des travaux récents en sciences humaines et sociales sur le Japon moderne et contemporain.… Más informaciones https://calenda-formation.labocleo.org/205836
LOCATION:París
END:VEVENT
BEGIN:VEVENT
DTSTART;VALUE=DATE:20111201
DTEND;VALUE=DATE:20111202
UID:205836-20111201@calenda.revues.org
SUMMARY:Histoire du Japon moderne et contemporain : permanences et ruptures (2011-2012)
URL:https://calenda-formation.labocleo.org/205836
DESCRIPTION:Dans le cadre du séminaire collectif du Centre de recherches sur le Japon 2011-2012\, seront données onze conférences présentant des recherches novatrices et des travaux récents en sciences humaines et sociales sur le Japon moderne et contemporain.… Más informaciones https://calenda-formation.labocleo.org/205836
LOCATION:París
END:VEVENT
BEGIN:VEVENT
DTSTART;VALUE=DATE:20111215
DTEND;VALUE=DATE:20111216
UID:205836-20111215@calenda.revues.org
SUMMARY:Histoire du Japon moderne et contemporain : permanences et ruptures (2011-2012)
URL:https://calenda-formation.labocleo.org/205836
DESCRIPTION:Dans le cadre du séminaire collectif du Centre de recherches sur le Japon 2011-2012\, seront données onze conférences présentant des recherches novatrices et des travaux récents en sciences humaines et sociales sur le Japon moderne et contemporain.… Más informaciones https://calenda-formation.labocleo.org/205836
LOCATION:París
END:VEVENT
BEGIN:VEVENT
DTSTART;VALUE=DATE:20120105
DTEND;VALUE=DATE:20120106
UID:205836-20120105@calenda.revues.org
SUMMARY:Histoire du Japon moderne et contemporain : permanences et ruptures (2011-2012)
URL:https://calenda-formation.labocleo.org/205836
DESCRIPTION:Dans le cadre du séminaire collectif du Centre de recherches sur le Japon 2011-2012\, seront données onze conférences présentant des recherches novatrices et des travaux récents en sciences humaines et sociales sur le Japon moderne et contemporain.… Más informaciones https://calenda-formation.labocleo.org/205836
LOCATION:París
END:VEVENT
BEGIN:VEVENT
DTSTART;VALUE=DATE:20120119
DTEND;VALUE=DATE:20120120
UID:205836-20120119@calenda.revues.org
SUMMARY:Histoire du Japon moderne et contemporain : permanences et ruptures (2011-2012)
URL:https://calenda-formation.labocleo.org/205836
DESCRIPTION:Dans le cadre du séminaire collectif du Centre de recherches sur le Japon 2011-2012\, seront données onze conférences présentant des recherches novatrices et des travaux récents en sciences humaines et sociales sur le Japon moderne et contemporain.… Más informaciones https://calenda-formation.labocleo.org/205836
LOCATION:París
END:VEVENT
BEGIN:VEVENT
DTSTART;VALUE=DATE:20120202
DTEND;VALUE=DATE:20120203
UID:205836-20120202@calenda.revues.org
SUMMARY:Histoire du Japon moderne et contemporain : permanences et ruptures (2011-2012)
URL:https://calenda-formation.labocleo.org/205836
DESCRIPTION:Dans le cadre du séminaire collectif du Centre de recherches sur le Japon 2011-2012\, seront données onze conférences présentant des recherches novatrices et des travaux récents en sciences humaines et sociales sur le Japon moderne et contemporain.… Más informaciones https://calenda-formation.labocleo.org/205836
LOCATION:París
END:VEVENT
BEGIN:VEVENT
DTSTART;VALUE=DATE:20120216
DTEND;VALUE=DATE:20120217
UID:205836-20120216@calenda.revues.org
SUMMARY:Histoire du Japon moderne et contemporain : permanences et ruptures (2011-2012)
URL:https://calenda-formation.labocleo.org/205836
DESCRIPTION:Dans le cadre du séminaire collectif du Centre de recherches sur le Japon 2011-2012\, seront données onze conférences présentant des recherches novatrices et des travaux récents en sciences humaines et sociales sur le Japon moderne et contemporain.… Más informaciones https://calenda-formation.labocleo.org/205836
LOCATION:París
END:VEVENT
BEGIN:VEVENT
DTSTART;VALUE=DATE:20120308
DTEND;VALUE=DATE:20120309
UID:205836-20120308@calenda.revues.org
SUMMARY:Histoire du Japon moderne et contemporain : permanences et ruptures (2011-2012)
URL:https://calenda-formation.labocleo.org/205836
DESCRIPTION:Dans le cadre du séminaire collectif du Centre de recherches sur le Japon 2011-2012\, seront données onze conférences présentant des recherches novatrices et des travaux récents en sciences humaines et sociales sur le Japon moderne et contemporain.… Más informaciones https://calenda-formation.labocleo.org/205836
LOCATION:París
END:VEVENT
BEGIN:VEVENT
DTSTART;VALUE=DATE:20120315
DTEND;VALUE=DATE:20120316
UID:205836-20120315@calenda.revues.org
SUMMARY:Histoire du Japon moderne et contemporain : permanences et ruptures (2011-2012)
URL:https://calenda-formation.labocleo.org/205836
DESCRIPTION:Dans le cadre du séminaire collectif du Centre de recherches sur le Japon 2011-2012\, seront données onze conférences présentant des recherches novatrices et des travaux récents en sciences humaines et sociales sur le Japon moderne et contemporain.… Más informaciones https://calenda-formation.labocleo.org/205836
LOCATION:París
END:VEVENT
BEGIN:VEVENT
DTSTART;VALUE=DATE:20120405
DTEND;VALUE=DATE:20120406
UID:205836-20120405@calenda.revues.org
SUMMARY:Histoire du Japon moderne et contemporain : permanences et ruptures (2011-2012)
URL:https://calenda-formation.labocleo.org/205836
DESCRIPTION:Dans le cadre du séminaire collectif du Centre de recherches sur le Japon 2011-2012\, seront données onze conférences présentant des recherches novatrices et des travaux récents en sciences humaines et sociales sur le Japon moderne et contemporain.… Más informaciones https://calenda-formation.labocleo.org/205836
LOCATION:París
END:VEVENT
END:VCALENDAR
