BEGIN:VCALENDAR
VERSION:2.0
PRODID:-//https://calenda-formation.labocleo.org
X-WR-CALNAME:Calenda
X-WR-TIMEZONE:Europe/Paris
CALSCALE:GREGORIAN
X-WR-CALDESC:The calendar for arts, humanities and social sciences
METHOD:PUBLISH
BEGIN:VEVENT
DTSTART;VALUE=DATE:20111026
DTEND;VALUE=DATE:20111027
UID:205919-20111026@calenda.revues.org
SUMMARY:Goa passado e presente
URL:https://calenda-formation.labocleo.org/205919
DESCRIPTION:Tendo ocorrido em 2010 cinco séculos de presença portuguesa em Goa\, será uma oportunidade de reflectir sobre os 500 anos de convivência entre portugueses e goeses\, marcada por encontros e afastamentos\, acertos e azares\, afectos\, indiferenças e ódios\,… @plus_info https://calenda-formation.labocleo.org/205919
LOCATION:Lisbon
END:VEVENT
BEGIN:VEVENT
DTSTART;VALUE=DATE:20111027
DTEND;VALUE=DATE:20111028
UID:205919-20111027@calenda.revues.org
SUMMARY:Goa passado e presente
URL:https://calenda-formation.labocleo.org/205919
DESCRIPTION:Tendo ocorrido em 2010 cinco séculos de presença portuguesa em Goa\, será uma oportunidade de reflectir sobre os 500 anos de convivência entre portugueses e goeses\, marcada por encontros e afastamentos\, acertos e azares\, afectos\, indiferenças e ódios\,… @plus_info https://calenda-formation.labocleo.org/205919
LOCATION:Lisbon
END:VEVENT
BEGIN:VEVENT
DTSTART;VALUE=DATE:20111028
DTEND;VALUE=DATE:20111029
UID:205919-20111028@calenda.revues.org
SUMMARY:Goa passado e presente
URL:https://calenda-formation.labocleo.org/205919
DESCRIPTION:Tendo ocorrido em 2010 cinco séculos de presença portuguesa em Goa\, será uma oportunidade de reflectir sobre os 500 anos de convivência entre portugueses e goeses\, marcada por encontros e afastamentos\, acertos e azares\, afectos\, indiferenças e ódios\,… @plus_info https://calenda-formation.labocleo.org/205919
LOCATION:Lisbon
END:VEVENT
END:VCALENDAR
