BEGIN:VCALENDAR
VERSION:2.0
PRODID:-//https://calenda-formation.labocleo.org
X-WR-CALNAME:Calenda
X-WR-TIMEZONE:Europe/Paris
CALSCALE:GREGORIAN
X-WR-CALDESC:O calendário de letras e de ciências sociais e humanas
METHOD:PUBLISH
BEGIN:VEVENT
DTSTART;VALUE=DATE:20111123
DTEND;VALUE=DATE:20111124
UID:205949-20111123@calenda.revues.org
SUMMARY:Thaourah : révolte ou révolution dans le monde arabe ?
URL:https://calenda-formation.labocleo.org/205949
DESCRIPTION:Poser la question « révolte ou révolution ? »\, que le mot arabe thaourah ne distingue pas vraiment\, est une façon  d’interroger le sens qu’il faut attribuer aux mutations actuelles dans le monde arabe. La question de la « transition » doit être inter… @plus_info https://calenda-formation.labocleo.org/205949
LOCATION:Paris
END:VEVENT
END:VCALENDAR
