BEGIN:VCALENDAR
VERSION:2.0
PRODID:-//https://calenda-formation.labocleo.org
X-WR-CALNAME:Calenda
X-WR-TIMEZONE:Europe/Paris
CALSCALE:GREGORIAN
X-WR-CALDESC:The calendar for arts, humanities and social sciences
METHOD:PUBLISH
BEGIN:VEVENT
DTSTART;VALUE=DATE:20111230
DTEND;VALUE=DATE:20111231
UID:205970-20111230@calenda.revues.org
SUMMARY:La force (in)tranquille des années quatre-vingt
URL:https://calenda-formation.labocleo.org/205970
DESCRIPTION:Par-delà le phénomène de mode consistant à redécouvrir\, regretter\, voire se ressourcer dans les images\, les sons et les mots des années quatre-vingt\, une réflexion semble s'imposer qui ferait le bilan d'une décennie riche en événements politiques\, cu… @plus_info https://calenda-formation.labocleo.org/205970
LOCATION:Porto Alegre
END:VEVENT
END:VCALENDAR
