BEGIN:VCALENDAR
VERSION:2.0
PRODID:-//https://calenda-formation.labocleo.org
X-WR-CALNAME:Calenda
X-WR-TIMEZONE:Europe/Paris
CALSCALE:GREGORIAN
X-WR-CALDESC:Le calendrier des lettres et sciences humaines et sociales
METHOD:PUBLISH
BEGIN:VEVENT
DTSTART;VALUE=DATE:20111126
DTEND;VALUE=DATE:20111127
UID:206009-20111126@calenda.revues.org
SUMMARY:Genre et voix : approches interdisciplinaires
URL:https://calenda-formation.labocleo.org/206009
DESCRIPTION:Le développement récent des travaux de sciences sociales sur le corps a permis de renouveler et d’enrichir les réflexions sur les dimensions incorporées du genre. Encore peu explorée dans cette perspective\, la voix joue un rôle considérable dans la n… Weitere Informationen https://calenda-formation.labocleo.org/206009
LOCATION:Paris
END:VEVENT
END:VCALENDAR
