BEGIN:VCALENDAR
VERSION:2.0
PRODID:-//https://calenda-formation.labocleo.org
X-WR-CALNAME:Calenda
X-WR-TIMEZONE:Europe/Paris
CALSCALE:GREGORIAN
X-WR-CALDESC:Le calendrier des lettres et sciences humaines et sociales
METHOD:PUBLISH
BEGIN:VEVENT
DTSTART;VALUE=DATE:20111124
DTEND;VALUE=DATE:20111125
UID:206015-20111124@calenda.revues.org
SUMMARY:Savoirs techniques et patrimoine culturel immatériel\, XVIIe-XXIe siècle (2011-2012)
URL:https://calenda-formation.labocleo.org/206015
DESCRIPTION:Série de conférences dans le cadre du séminaire « Savoirs techniques et patrimoine culturel immatériel (XVIe-XXIe siècle) en Chine : formation\, tradition\, transmission » de Caroline Bodolec\, chargée de recherche CNRS\, Frédéric Obringer\, chargé de rec… Más informaciones https://calenda-formation.labocleo.org/206015
LOCATION:París
END:VEVENT
BEGIN:VEVENT
DTSTART;VALUE=DATE:20111208
DTEND;VALUE=DATE:20111209
UID:206015-20111208@calenda.revues.org
SUMMARY:Savoirs techniques et patrimoine culturel immatériel\, XVIIe-XXIe siècle (2011-2012)
URL:https://calenda-formation.labocleo.org/206015
DESCRIPTION:Série de conférences dans le cadre du séminaire « Savoirs techniques et patrimoine culturel immatériel (XVIe-XXIe siècle) en Chine : formation\, tradition\, transmission » de Caroline Bodolec\, chargée de recherche CNRS\, Frédéric Obringer\, chargé de rec… Más informaciones https://calenda-formation.labocleo.org/206015
LOCATION:París
END:VEVENT
BEGIN:VEVENT
DTSTART;VALUE=DATE:20120112
DTEND;VALUE=DATE:20120113
UID:206015-20120112@calenda.revues.org
SUMMARY:Savoirs techniques et patrimoine culturel immatériel\, XVIIe-XXIe siècle (2011-2012)
URL:https://calenda-formation.labocleo.org/206015
DESCRIPTION:Série de conférences dans le cadre du séminaire « Savoirs techniques et patrimoine culturel immatériel (XVIe-XXIe siècle) en Chine : formation\, tradition\, transmission » de Caroline Bodolec\, chargée de recherche CNRS\, Frédéric Obringer\, chargé de rec… Más informaciones https://calenda-formation.labocleo.org/206015
LOCATION:París
END:VEVENT
BEGIN:VEVENT
DTSTART;VALUE=DATE:20120126
DTEND;VALUE=DATE:20120127
UID:206015-20120126@calenda.revues.org
SUMMARY:Savoirs techniques et patrimoine culturel immatériel\, XVIIe-XXIe siècle (2011-2012)
URL:https://calenda-formation.labocleo.org/206015
DESCRIPTION:Série de conférences dans le cadre du séminaire « Savoirs techniques et patrimoine culturel immatériel (XVIe-XXIe siècle) en Chine : formation\, tradition\, transmission » de Caroline Bodolec\, chargée de recherche CNRS\, Frédéric Obringer\, chargé de rec… Más informaciones https://calenda-formation.labocleo.org/206015
LOCATION:París
END:VEVENT
BEGIN:VEVENT
DTSTART;VALUE=DATE:20120209
DTEND;VALUE=DATE:20120210
UID:206015-20120209@calenda.revues.org
SUMMARY:Savoirs techniques et patrimoine culturel immatériel\, XVIIe-XXIe siècle (2011-2012)
URL:https://calenda-formation.labocleo.org/206015
DESCRIPTION:Série de conférences dans le cadre du séminaire « Savoirs techniques et patrimoine culturel immatériel (XVIe-XXIe siècle) en Chine : formation\, tradition\, transmission » de Caroline Bodolec\, chargée de recherche CNRS\, Frédéric Obringer\, chargé de rec… Más informaciones https://calenda-formation.labocleo.org/206015
LOCATION:París
END:VEVENT
END:VCALENDAR
