BEGIN:VCALENDAR
VERSION:2.0
PRODID:-//https://calenda-formation.labocleo.org
X-WR-CALNAME:Calenda
X-WR-TIMEZONE:Europe/Paris
CALSCALE:GREGORIAN
X-WR-CALDESC:The calendar for arts, humanities and social sciences
METHOD:PUBLISH
BEGIN:VEVENT
DTSTART;VALUE=DATE:20111208
DTEND;VALUE=DATE:20111209
UID:206053-20111208@calenda.revues.org
SUMMARY:Écrire et mettre en scène le monde du travail
URL:https://calenda-formation.labocleo.org/206053
DESCRIPTION:L’association Mémoires du travail organise les 8 et 9 décembre prochains un stage sur « Écrire et mettre en scène le monde du travail »\, au CRDP de Lille. L'objectif de ces deux jours est\, à un moment où plusieurs romans sur le monde du travail conna… @plus_info https://calenda-formation.labocleo.org/206053
LOCATION:Lille
END:VEVENT
BEGIN:VEVENT
DTSTART;VALUE=DATE:20111209
DTEND;VALUE=DATE:20111210
UID:206053-20111209@calenda.revues.org
SUMMARY:Écrire et mettre en scène le monde du travail
URL:https://calenda-formation.labocleo.org/206053
DESCRIPTION:L’association Mémoires du travail organise les 8 et 9 décembre prochains un stage sur « Écrire et mettre en scène le monde du travail »\, au CRDP de Lille. L'objectif de ces deux jours est\, à un moment où plusieurs romans sur le monde du travail conna… @plus_info https://calenda-formation.labocleo.org/206053
LOCATION:Lille
END:VEVENT
END:VCALENDAR
