BEGIN:VCALENDAR
VERSION:2.0
PRODID:-//https://calenda-formation.labocleo.org
X-WR-CALNAME:Calenda
X-WR-TIMEZONE:Europe/Paris
CALSCALE:GREGORIAN
X-WR-CALDESC:Le calendrier des lettres et sciences humaines et sociales
METHOD:PUBLISH
BEGIN:VEVENT
DTSTART;VALUE=DATE:20120224
DTEND;VALUE=DATE:20120225
UID:206079-20120224@calenda.revues.org
SUMMARY:Frontières de la non-fiction : l’esthétique documentaire et ses objets  
URL:https://calenda-formation.labocleo.org/206079
DESCRIPTION:Programme de la journée d’étude organisée par Alison James & Christophe Reig\, au Centre à Paris de l’Université de Chicago\, avec le soutien du Centre à Paris de l’Université de Chicago et du Centre France-Chicago. … @plus_info https://calenda-formation.labocleo.org/206079
LOCATION:Paris
END:VEVENT
END:VCALENDAR
