BEGIN:VCALENDAR
VERSION:2.0
PRODID:-//https://calenda-formation.labocleo.org
X-WR-CALNAME:Calenda
X-WR-TIMEZONE:Europe/Paris
CALSCALE:GREGORIAN
X-WR-CALDESC:Le calendrier des lettres et sciences humaines et sociales
METHOD:PUBLISH
BEGIN:VEVENT
DTSTART;VALUE=DATE:20111125
DTEND;VALUE=DATE:20111126
UID:206131-20111125@calenda.revues.org
SUMMARY:Les années 1870-1871 dans le Sud-Ouest atlantique
URL:https://calenda-formation.labocleo.org/206131
DESCRIPTION:D’août 1870 à juillet 1871\, la France a vécu des moments si dramatiques que Victor Hugo leur a consacrés un recueil de poèmes publié en 1872 sous le titre L’Année terrible. Si la défaite militaire a entraîné l’effondrement du Second Empire\, elle a pe… Más informaciones https://calenda-formation.labocleo.org/206131
LOCATION:Baiona
END:VEVENT
BEGIN:VEVENT
DTSTART;VALUE=DATE:20111126
DTEND;VALUE=DATE:20111127
UID:206131-20111126@calenda.revues.org
SUMMARY:Les années 1870-1871 dans le Sud-Ouest atlantique
URL:https://calenda-formation.labocleo.org/206131
DESCRIPTION:D’août 1870 à juillet 1871\, la France a vécu des moments si dramatiques que Victor Hugo leur a consacrés un recueil de poèmes publié en 1872 sous le titre L’Année terrible. Si la défaite militaire a entraîné l’effondrement du Second Empire\, elle a pe… Más informaciones https://calenda-formation.labocleo.org/206131
LOCATION:Baiona
END:VEVENT
END:VCALENDAR
