BEGIN:VCALENDAR
VERSION:2.0
PRODID:-//https://calenda-formation.labocleo.org
X-WR-CALNAME:Calenda
X-WR-TIMEZONE:Europe/Paris
CALSCALE:GREGORIAN
X-WR-CALDESC:The calendar for arts, humanities and social sciences
METHOD:PUBLISH
BEGIN:VEVENT
DTSTART;VALUE=DATE:20111201
DTEND;VALUE=DATE:20111202
UID:206246-20111201@calenda.revues.org
SUMMARY:Learning: a vector of insertion and equality of chances?
URL:https://calenda-formation.labocleo.org/206246
DESCRIPTION:Force est de constater que l’idée selon laquelle le rapprochement entre l’école et l’entreprise favorise l’insertion professionnelle est devenue une telle évidence qu’il ne s’agit plus de la discuter. Pour autant\, quels sont les acquis de la recherch… @plus_info https://calenda-formation.labocleo.org/206246
LOCATION:Albi
END:VEVENT
BEGIN:VEVENT
DTSTART;VALUE=DATE:20111202
DTEND;VALUE=DATE:20111203
UID:206246-20111202@calenda.revues.org
SUMMARY:Learning: a vector of insertion and equality of chances?
URL:https://calenda-formation.labocleo.org/206246
DESCRIPTION:Force est de constater que l’idée selon laquelle le rapprochement entre l’école et l’entreprise favorise l’insertion professionnelle est devenue une telle évidence qu’il ne s’agit plus de la discuter. Pour autant\, quels sont les acquis de la recherch… @plus_info https://calenda-formation.labocleo.org/206246
LOCATION:Albi
END:VEVENT
END:VCALENDAR
