BEGIN:VCALENDAR
VERSION:2.0
PRODID:-//https://calenda-formation.labocleo.org
X-WR-CALNAME:Calenda
X-WR-TIMEZONE:Europe/Paris
CALSCALE:GREGORIAN
X-WR-CALDESC:The calendar for arts, humanities and social sciences
METHOD:PUBLISH
BEGIN:VEVENT
DTSTART;VALUE=DATE:20111220
DTEND;VALUE=DATE:20111221
UID:206278-20111220@calenda.revues.org
SUMMARY:Memories of routes and bodies. Migrant figures and discourses
URL:https://calenda-formation.labocleo.org/206278
DESCRIPTION:Les phénomènes migratoires sont devenus un enjeu géopolitique et posent des problèmes humains de divers ordres. Un état des lieux des travaux montre qu'ils sont souvent liés à des préoccupations stratégiques et sécuritaires déterminées depuis les pay… @plus_info https://calenda-formation.labocleo.org/206278
LOCATION:Dakar
END:VEVENT
BEGIN:VEVENT
DTSTART;VALUE=DATE:20111221
DTEND;VALUE=DATE:20111222
UID:206278-20111221@calenda.revues.org
SUMMARY:Memories of routes and bodies. Migrant figures and discourses
URL:https://calenda-formation.labocleo.org/206278
DESCRIPTION:Les phénomènes migratoires sont devenus un enjeu géopolitique et posent des problèmes humains de divers ordres. Un état des lieux des travaux montre qu'ils sont souvent liés à des préoccupations stratégiques et sécuritaires déterminées depuis les pay… @plus_info https://calenda-formation.labocleo.org/206278
LOCATION:Dakar
END:VEVENT
END:VCALENDAR
