BEGIN:VCALENDAR
VERSION:2.0
PRODID:-//https://calenda-formation.labocleo.org
X-WR-CALNAME:Calenda
X-WR-TIMEZONE:Europe/Paris
CALSCALE:GREGORIAN
X-WR-CALDESC:O calendário de letras e de ciências sociais e humanas
METHOD:PUBLISH
BEGIN:VEVENT
DTSTART;VALUE=DATE:20111124
DTEND;VALUE=DATE:20111125
UID:206296-20111124@calenda.revues.org
SUMMARY:Écriture de l'espace\, écriture de l'histoire
URL:https://calenda-formation.labocleo.org/206296
DESCRIPTION:Quelles relations existe-t-il entre la perception\, la mesure et la représentation des espaces et l'écriture des hommes qui s'y installent ? Selon quels processus et dans quelle mesure l'histoire (sociale\, événementielle\, économique\, culturelle) naît-… @plus_info https://calenda-formation.labocleo.org/206296
LOCATION:Paris
END:VEVENT
BEGIN:VEVENT
DTSTART;VALUE=DATE:20111125
DTEND;VALUE=DATE:20111126
UID:206296-20111125@calenda.revues.org
SUMMARY:Écriture de l'espace\, écriture de l'histoire
URL:https://calenda-formation.labocleo.org/206296
DESCRIPTION:Quelles relations existe-t-il entre la perception\, la mesure et la représentation des espaces et l'écriture des hommes qui s'y installent ? Selon quels processus et dans quelle mesure l'histoire (sociale\, événementielle\, économique\, culturelle) naît-… @plus_info https://calenda-formation.labocleo.org/206296
LOCATION:Paris
END:VEVENT
END:VCALENDAR
