BEGIN:VCALENDAR
VERSION:2.0
PRODID:-//https://calenda-formation.labocleo.org
X-WR-CALNAME:Calenda
X-WR-TIMEZONE:Europe/Paris
CALSCALE:GREGORIAN
X-WR-CALDESC:Le calendrier des lettres et sciences humaines et sociales
METHOD:PUBLISH
BEGIN:VEVENT
DTSTART;VALUE=DATE:20111203
DTEND;VALUE=DATE:20111204
UID:206322-20111203@calenda.revues.org
SUMMARY:Tell Masaïkh\, une colonie de l'empire assyrien en Syrie ? 
URL:https://calenda-formation.labocleo.org/206322
DESCRIPTION:À partir de l'exemple fourni par les études réalisées dans le cadre de la mission archéologique en Syrie de Tell Masaïkh\, identifié comme le site de la cité néo-assyrienne de Kar-Assurnasirpal fondée par le roi Assurnasirpal II vers le milieu du IXe … Más informaciones https://calenda-formation.labocleo.org/206322
LOCATION:París
END:VEVENT
END:VCALENDAR
