BEGIN:VCALENDAR
VERSION:2.0
PRODID:-//https://calenda-formation.labocleo.org
X-WR-CALNAME:Calenda
X-WR-TIMEZONE:Europe/Paris
CALSCALE:GREGORIAN
X-WR-CALDESC:The calendar for arts, humanities and social sciences
METHOD:PUBLISH
BEGIN:VEVENT
DTSTART;VALUE=DATE:20111129
DTEND;VALUE=DATE:20111130
UID:206382-20111129@calenda.revues.org
SUMMARY:War in Burgundy at the end of the Middle Ages (2011-2012)
URL:https://calenda-formation.labocleo.org/206382
DESCRIPTION:Année universitaire 2011-2012 : « la guerre en pays bourguignons aux XIVe et XVe siècles ». Les séances auront lieu de 14h à 16h aux Archives nationales\, CARAN\, salle suspendue. … @plus_info https://calenda-formation.labocleo.org/206382
LOCATION:Paris
END:VEVENT
BEGIN:VEVENT
DTSTART;VALUE=DATE:20111213
DTEND;VALUE=DATE:20111214
UID:206382-20111213@calenda.revues.org
SUMMARY:War in Burgundy at the end of the Middle Ages (2011-2012)
URL:https://calenda-formation.labocleo.org/206382
DESCRIPTION:Année universitaire 2011-2012 : « la guerre en pays bourguignons aux XIVe et XVe siècles ». Les séances auront lieu de 14h à 16h aux Archives nationales\, CARAN\, salle suspendue. … @plus_info https://calenda-formation.labocleo.org/206382
LOCATION:Paris
END:VEVENT
BEGIN:VEVENT
DTSTART;VALUE=DATE:20120124
DTEND;VALUE=DATE:20120125
UID:206382-20120124@calenda.revues.org
SUMMARY:War in Burgundy at the end of the Middle Ages (2011-2012)
URL:https://calenda-formation.labocleo.org/206382
DESCRIPTION:Année universitaire 2011-2012 : « la guerre en pays bourguignons aux XIVe et XVe siècles ». Les séances auront lieu de 14h à 16h aux Archives nationales\, CARAN\, salle suspendue. … @plus_info https://calenda-formation.labocleo.org/206382
LOCATION:Paris
END:VEVENT
BEGIN:VEVENT
DTSTART;VALUE=DATE:20120214
DTEND;VALUE=DATE:20120215
UID:206382-20120214@calenda.revues.org
SUMMARY:War in Burgundy at the end of the Middle Ages (2011-2012)
URL:https://calenda-formation.labocleo.org/206382
DESCRIPTION:Année universitaire 2011-2012 : « la guerre en pays bourguignons aux XIVe et XVe siècles ». Les séances auront lieu de 14h à 16h aux Archives nationales\, CARAN\, salle suspendue. … @plus_info https://calenda-formation.labocleo.org/206382
LOCATION:Paris
END:VEVENT
BEGIN:VEVENT
DTSTART;VALUE=DATE:20120327
DTEND;VALUE=DATE:20120328
UID:206382-20120327@calenda.revues.org
SUMMARY:War in Burgundy at the end of the Middle Ages (2011-2012)
URL:https://calenda-formation.labocleo.org/206382
DESCRIPTION:Année universitaire 2011-2012 : « la guerre en pays bourguignons aux XIVe et XVe siècles ». Les séances auront lieu de 14h à 16h aux Archives nationales\, CARAN\, salle suspendue. … @plus_info https://calenda-formation.labocleo.org/206382
LOCATION:Paris
END:VEVENT
BEGIN:VEVENT
DTSTART;VALUE=DATE:20120410
DTEND;VALUE=DATE:20120411
UID:206382-20120410@calenda.revues.org
SUMMARY:War in Burgundy at the end of the Middle Ages (2011-2012)
URL:https://calenda-formation.labocleo.org/206382
DESCRIPTION:Année universitaire 2011-2012 : « la guerre en pays bourguignons aux XIVe et XVe siècles ». Les séances auront lieu de 14h à 16h aux Archives nationales\, CARAN\, salle suspendue. … @plus_info https://calenda-formation.labocleo.org/206382
LOCATION:Paris
END:VEVENT
END:VCALENDAR
