BEGIN:VCALENDAR
VERSION:2.0
PRODID:-//https://calenda-formation.labocleo.org
X-WR-CALNAME:Calenda
X-WR-TIMEZONE:Europe/Paris
CALSCALE:GREGORIAN
X-WR-CALDESC:The calendar for arts, humanities and social sciences
METHOD:PUBLISH
BEGIN:VEVENT
DTSTART;VALUE=DATE:20120215
DTEND;VALUE=DATE:20120216
UID:206390-20120215@calenda.revues.org
SUMMARY:"Long live uncertainty!"
URL:https://calenda-formation.labocleo.org/206390
DESCRIPTION:Appel pour une session thématique croisée sur le thème « Vive l'incertain ! » dans le cadre du prochain congrès de l'Association de sociologues de langue française (AISLF). Le thème général du congrès est sur l'incertitude. Il aura lieu à Rabat (Maro… @plus_info https://calenda-formation.labocleo.org/206390
LOCATION:
END:VEVENT
END:VCALENDAR
