BEGIN:VCALENDAR
VERSION:2.0
PRODID:-//https://calenda-formation.labocleo.org
X-WR-CALNAME:Calenda
X-WR-TIMEZONE:Europe/Paris
CALSCALE:GREGORIAN
X-WR-CALDESC:O calendário de letras e de ciências sociais e humanas
METHOD:PUBLISH
BEGIN:VEVENT
DTSTART;VALUE=DATE:20120207
DTEND;VALUE=DATE:20120208
UID:206397-20120207@calenda.revues.org
SUMMARY:Théories du droit global (2012)
URL:https://calenda-formation.labocleo.org/206397
DESCRIPTION:Le séminaire de théorie du droit consacré aux théories du droit global vise à dresser le panorama des approches théoriques contemporaines qui cherchent à mettre en évidence la formation actuelle d'un droit aux dimensions du monde.  Le séminaire exami… @plus_info https://calenda-formation.labocleo.org/206397
LOCATION:Bruxelas
END:VEVENT
BEGIN:VEVENT
DTSTART;VALUE=DATE:20120214
DTEND;VALUE=DATE:20120215
UID:206397-20120214@calenda.revues.org
SUMMARY:Théories du droit global (2012)
URL:https://calenda-formation.labocleo.org/206397
DESCRIPTION:Le séminaire de théorie du droit consacré aux théories du droit global vise à dresser le panorama des approches théoriques contemporaines qui cherchent à mettre en évidence la formation actuelle d'un droit aux dimensions du monde.  Le séminaire exami… @plus_info https://calenda-formation.labocleo.org/206397
LOCATION:Bruxelas
END:VEVENT
BEGIN:VEVENT
DTSTART;VALUE=DATE:20120222
DTEND;VALUE=DATE:20120223
UID:206397-20120222@calenda.revues.org
SUMMARY:Théories du droit global (2012)
URL:https://calenda-formation.labocleo.org/206397
DESCRIPTION:Le séminaire de théorie du droit consacré aux théories du droit global vise à dresser le panorama des approches théoriques contemporaines qui cherchent à mettre en évidence la formation actuelle d'un droit aux dimensions du monde.  Le séminaire exami… @plus_info https://calenda-formation.labocleo.org/206397
LOCATION:Bruxelas
END:VEVENT
BEGIN:VEVENT
DTSTART;VALUE=DATE:20120228
DTEND;VALUE=DATE:20120229
UID:206397-20120228@calenda.revues.org
SUMMARY:Théories du droit global (2012)
URL:https://calenda-formation.labocleo.org/206397
DESCRIPTION:Le séminaire de théorie du droit consacré aux théories du droit global vise à dresser le panorama des approches théoriques contemporaines qui cherchent à mettre en évidence la formation actuelle d'un droit aux dimensions du monde.  Le séminaire exami… @plus_info https://calenda-formation.labocleo.org/206397
LOCATION:Bruxelas
END:VEVENT
BEGIN:VEVENT
DTSTART;VALUE=DATE:20120306
DTEND;VALUE=DATE:20120307
UID:206397-20120306@calenda.revues.org
SUMMARY:Théories du droit global (2012)
URL:https://calenda-formation.labocleo.org/206397
DESCRIPTION:Le séminaire de théorie du droit consacré aux théories du droit global vise à dresser le panorama des approches théoriques contemporaines qui cherchent à mettre en évidence la formation actuelle d'un droit aux dimensions du monde.  Le séminaire exami… @plus_info https://calenda-formation.labocleo.org/206397
LOCATION:Bruxelas
END:VEVENT
BEGIN:VEVENT
DTSTART;VALUE=DATE:20120313
DTEND;VALUE=DATE:20120314
UID:206397-20120313@calenda.revues.org
SUMMARY:Théories du droit global (2012)
URL:https://calenda-formation.labocleo.org/206397
DESCRIPTION:Le séminaire de théorie du droit consacré aux théories du droit global vise à dresser le panorama des approches théoriques contemporaines qui cherchent à mettre en évidence la formation actuelle d'un droit aux dimensions du monde.  Le séminaire exami… @plus_info https://calenda-formation.labocleo.org/206397
LOCATION:Bruxelas
END:VEVENT
BEGIN:VEVENT
DTSTART;VALUE=DATE:20120320
DTEND;VALUE=DATE:20120321
UID:206397-20120320@calenda.revues.org
SUMMARY:Théories du droit global (2012)
URL:https://calenda-formation.labocleo.org/206397
DESCRIPTION:Le séminaire de théorie du droit consacré aux théories du droit global vise à dresser le panorama des approches théoriques contemporaines qui cherchent à mettre en évidence la formation actuelle d'un droit aux dimensions du monde.  Le séminaire exami… @plus_info https://calenda-formation.labocleo.org/206397
LOCATION:Bruxelas
END:VEVENT
BEGIN:VEVENT
DTSTART;VALUE=DATE:20120327
DTEND;VALUE=DATE:20120328
UID:206397-20120327@calenda.revues.org
SUMMARY:Théories du droit global (2012)
URL:https://calenda-formation.labocleo.org/206397
DESCRIPTION:Le séminaire de théorie du droit consacré aux théories du droit global vise à dresser le panorama des approches théoriques contemporaines qui cherchent à mettre en évidence la formation actuelle d'un droit aux dimensions du monde.  Le séminaire exami… @plus_info https://calenda-formation.labocleo.org/206397
LOCATION:Bruxelas
END:VEVENT
END:VCALENDAR
