BEGIN:VCALENDAR
VERSION:2.0
PRODID:-//https://calenda-formation.labocleo.org
X-WR-CALNAME:Calenda
X-WR-TIMEZONE:Europe/Paris
CALSCALE:GREGORIAN
X-WR-CALDESC:The calendar for arts, humanities and social sciences
METHOD:PUBLISH
BEGIN:VEVENT
DTSTART;VALUE=DATE:20111212
DTEND;VALUE=DATE:20111213
UID:206419-20111212@calenda.revues.org
SUMMARY: I encontro luso-brasileiro de história da medicina tropical 
URL:https://calenda-formation.labocleo.org/206419
DESCRIPTION:“Nenhum outro correctivo é mais eficaz para os homens que o conhecimento do passado”\, afirmou Políbio\, ao reflectir sobre a escalada de Roma como a maior potência do Mediterrâneo. A lição continua actual: mesmo para a medicina e a saúde pública\, o co… @plus_info https://calenda-formation.labocleo.org/206419
LOCATION:Lisbon
END:VEVENT
END:VCALENDAR
