BEGIN:VCALENDAR
VERSION:2.0
PRODID:-//https://calenda-formation.labocleo.org
X-WR-CALNAME:Calenda
X-WR-TIMEZONE:Europe/Paris
CALSCALE:GREGORIAN
X-WR-CALDESC:O calendário de letras e de ciências sociais e humanas
METHOD:PUBLISH
BEGIN:VEVENT
DTSTART;VALUE=DATE:20111203
DTEND;VALUE=DATE:20111204
UID:206425-20111203@calenda.revues.org
SUMMARY:Le visible et l'invisible dans le monde hispanique et hispano-américain
URL:https://calenda-formation.labocleo.org/206425
DESCRIPTION:Ce colloque va nous permettre d'insister sur la pluridisciplinarité de ce projet car il regroupe des hispanistes spécialistes de domaines parfois fort différents (littéraires sur les trois genres\, spécialistes de l'iconographie (peinture\, photo)\, du … @plus_info https://calenda-formation.labocleo.org/206425
LOCATION:Champs-sur-Marne
END:VEVENT
BEGIN:VEVENT
DTSTART;VALUE=DATE:20111202
DTEND;VALUE=DATE:20111203
UID:206425-20111202@calenda.revues.org
SUMMARY:Le visible et l'invisible dans le monde hispanique et hispano-américain
URL:https://calenda-formation.labocleo.org/206425
DESCRIPTION:Ce colloque va nous permettre d'insister sur la pluridisciplinarité de ce projet car il regroupe des hispanistes spécialistes de domaines parfois fort différents (littéraires sur les trois genres\, spécialistes de l'iconographie (peinture\, photo)\, du … @plus_info https://calenda-formation.labocleo.org/206425
LOCATION:Champs-sur-Marne
END:VEVENT
BEGIN:VEVENT
DTSTART;VALUE=DATE:20111201
DTEND;VALUE=DATE:20111202
UID:206425-20111201@calenda.revues.org
SUMMARY:Le visible et l'invisible dans le monde hispanique et hispano-américain
URL:https://calenda-formation.labocleo.org/206425
DESCRIPTION:Ce colloque va nous permettre d'insister sur la pluridisciplinarité de ce projet car il regroupe des hispanistes spécialistes de domaines parfois fort différents (littéraires sur les trois genres\, spécialistes de l'iconographie (peinture\, photo)\, du … @plus_info https://calenda-formation.labocleo.org/206425
LOCATION:Champs-sur-Marne
END:VEVENT
END:VCALENDAR
