BEGIN:VCALENDAR
VERSION:2.0
PRODID:-//https://calenda-formation.labocleo.org
X-WR-CALNAME:Calenda
X-WR-TIMEZONE:Europe/Paris
CALSCALE:GREGORIAN
X-WR-CALDESC:The calendar for arts, humanities and social sciences
METHOD:PUBLISH
BEGIN:VEVENT
DTSTART;VALUE=DATE:20111230
DTEND;VALUE=DATE:20111231
UID:206459-20111230@calenda.revues.org
SUMMARY:Belgium\, emerging from crisis
URL:https://calenda-formation.labocleo.org/206459
DESCRIPTION:« Sortir de crise » proposera un ensemble de contributions éclairant de manière rigoureuse et novatrice les origines\, les mécanismes\, les enjeux\, mais aussi les dégâts collatéraux de la crise belge.… @plus_info https://calenda-formation.labocleo.org/206459
LOCATION:Brussels
END:VEVENT
END:VCALENDAR
