BEGIN:VCALENDAR
VERSION:2.0
PRODID:-//https://calenda-formation.labocleo.org
X-WR-CALNAME:Calenda
X-WR-TIMEZONE:Europe/Paris
CALSCALE:GREGORIAN
X-WR-CALDESC:Le calendrier des lettres et sciences humaines et sociales
METHOD:PUBLISH
BEGIN:VEVENT
DTSTART;VALUE=DATE:20120301
DTEND;VALUE=DATE:20120302
UID:206545-20120301@calenda.revues.org
SUMMARY:L'Allemagne : quelle(s) image(s) ?
URL:https://calenda-formation.labocleo.org/206545
DESCRIPTION:Pour son troisième appel à communication\, la revue Comicalités entend explorer la bande dessinée et la production graphique d’outre-rhin et invite les chercheurs à s’inscrire dans trois axes de réflexion : le système éditorial de la bande dessinée al… Weitere Informationen https://calenda-formation.labocleo.org/206545
LOCATION:
END:VEVENT
END:VCALENDAR
