BEGIN:VCALENDAR
VERSION:2.0
PRODID:-//https://calenda-formation.labocleo.org
X-WR-CALNAME:Calenda
X-WR-TIMEZONE:Europe/Paris
CALSCALE:GREGORIAN
X-WR-CALDESC:Le calendrier des lettres et sciences humaines et sociales
METHOD:PUBLISH
BEGIN:VEVENT
DTSTART;VALUE=DATE:20120113
DTEND;VALUE=DATE:20120114
UID:206565-20120113@calenda.revues.org
SUMMARY:Politiques urbaines : construction et circulation des catégories et des ressources de l’action publique
URL:https://calenda-formation.labocleo.org/206565
DESCRIPTION:Séminaire interdisciplinaire (sociologie\, science politique\, géographie\, histoire) portant sur l'analyse des catégories et des ressources des politiques urbaines\, considérées dans leur élaboration et leur circulation entre différentes périodes histor… Más informaciones https://calenda-formation.labocleo.org/206565
LOCATION:París
END:VEVENT
BEGIN:VEVENT
DTSTART;VALUE=DATE:20120213
DTEND;VALUE=DATE:20120214
UID:206565-20120213@calenda.revues.org
SUMMARY:Politiques urbaines : construction et circulation des catégories et des ressources de l’action publique
URL:https://calenda-formation.labocleo.org/206565
DESCRIPTION:Séminaire interdisciplinaire (sociologie\, science politique\, géographie\, histoire) portant sur l'analyse des catégories et des ressources des politiques urbaines\, considérées dans leur élaboration et leur circulation entre différentes périodes histor… Más informaciones https://calenda-formation.labocleo.org/206565
LOCATION:París
END:VEVENT
BEGIN:VEVENT
DTSTART;VALUE=DATE:20120309
DTEND;VALUE=DATE:20120310
UID:206565-20120309@calenda.revues.org
SUMMARY:Politiques urbaines : construction et circulation des catégories et des ressources de l’action publique
URL:https://calenda-formation.labocleo.org/206565
DESCRIPTION:Séminaire interdisciplinaire (sociologie\, science politique\, géographie\, histoire) portant sur l'analyse des catégories et des ressources des politiques urbaines\, considérées dans leur élaboration et leur circulation entre différentes périodes histor… Más informaciones https://calenda-formation.labocleo.org/206565
LOCATION:París
END:VEVENT
BEGIN:VEVENT
DTSTART;VALUE=DATE:20120406
DTEND;VALUE=DATE:20120407
UID:206565-20120406@calenda.revues.org
SUMMARY:Politiques urbaines : construction et circulation des catégories et des ressources de l’action publique
URL:https://calenda-formation.labocleo.org/206565
DESCRIPTION:Séminaire interdisciplinaire (sociologie\, science politique\, géographie\, histoire) portant sur l'analyse des catégories et des ressources des politiques urbaines\, considérées dans leur élaboration et leur circulation entre différentes périodes histor… Más informaciones https://calenda-formation.labocleo.org/206565
LOCATION:París
END:VEVENT
BEGIN:VEVENT
DTSTART;VALUE=DATE:20120511
DTEND;VALUE=DATE:20120512
UID:206565-20120511@calenda.revues.org
SUMMARY:Politiques urbaines : construction et circulation des catégories et des ressources de l’action publique
URL:https://calenda-formation.labocleo.org/206565
DESCRIPTION:Séminaire interdisciplinaire (sociologie\, science politique\, géographie\, histoire) portant sur l'analyse des catégories et des ressources des politiques urbaines\, considérées dans leur élaboration et leur circulation entre différentes périodes histor… Más informaciones https://calenda-formation.labocleo.org/206565
LOCATION:París
END:VEVENT
BEGIN:VEVENT
DTSTART;VALUE=DATE:20120608
DTEND;VALUE=DATE:20120609
UID:206565-20120608@calenda.revues.org
SUMMARY:Politiques urbaines : construction et circulation des catégories et des ressources de l’action publique
URL:https://calenda-formation.labocleo.org/206565
DESCRIPTION:Séminaire interdisciplinaire (sociologie\, science politique\, géographie\, histoire) portant sur l'analyse des catégories et des ressources des politiques urbaines\, considérées dans leur élaboration et leur circulation entre différentes périodes histor… Más informaciones https://calenda-formation.labocleo.org/206565
LOCATION:París
END:VEVENT
BEGIN:VEVENT
DTSTART;VALUE=DATE:20120604
DTEND;VALUE=DATE:20120605
UID:206565-20120604@calenda.revues.org
SUMMARY:Politiques urbaines : construction et circulation des catégories et des ressources de l’action publique
URL:https://calenda-formation.labocleo.org/206565
DESCRIPTION:Séminaire interdisciplinaire (sociologie\, science politique\, géographie\, histoire) portant sur l'analyse des catégories et des ressources des politiques urbaines\, considérées dans leur élaboration et leur circulation entre différentes périodes histor… Más informaciones https://calenda-formation.labocleo.org/206565
LOCATION:París
END:VEVENT
END:VCALENDAR
