BEGIN:VCALENDAR
VERSION:2.0
PRODID:-//https://calenda-formation.labocleo.org
X-WR-CALNAME:Calenda
X-WR-TIMEZONE:Europe/Paris
CALSCALE:GREGORIAN
X-WR-CALDESC:Le calendrier des lettres et sciences humaines et sociales
METHOD:PUBLISH
BEGIN:VEVENT
DTSTART;VALUE=DATE:20111209
DTEND;VALUE=DATE:20111210
UID:206579-20111209@calenda.revues.org
SUMMARY:Journées thématiques du laboratoire Parole et langage
URL:https://calenda-formation.labocleo.org/206579
DESCRIPTION:Depuis cette année universitaire 2011-2012\, il a été donné carte blanche à chaque équipe du laboratoire Parole et langage (LPL) pour l'organisation d’une journée de séminaires centrée sur la thématique de son choix. Ces journées sont ainsi l'occasion… @plus_info https://calenda-formation.labocleo.org/206579
LOCATION:Aix-en-Provence
END:VEVENT
BEGIN:VEVENT
DTSTART;VALUE=DATE:20120316
DTEND;VALUE=DATE:20120317
UID:206579-20120316@calenda.revues.org
SUMMARY:Journées thématiques du laboratoire Parole et langage
URL:https://calenda-formation.labocleo.org/206579
DESCRIPTION:Depuis cette année universitaire 2011-2012\, il a été donné carte blanche à chaque équipe du laboratoire Parole et langage (LPL) pour l'organisation d’une journée de séminaires centrée sur la thématique de son choix. Ces journées sont ainsi l'occasion… @plus_info https://calenda-formation.labocleo.org/206579
LOCATION:Aix-en-Provence
END:VEVENT
BEGIN:VEVENT
DTSTART;VALUE=DATE:20120615
DTEND;VALUE=DATE:20120616
UID:206579-20120615@calenda.revues.org
SUMMARY:Journées thématiques du laboratoire Parole et langage
URL:https://calenda-formation.labocleo.org/206579
DESCRIPTION:Depuis cette année universitaire 2011-2012\, il a été donné carte blanche à chaque équipe du laboratoire Parole et langage (LPL) pour l'organisation d’une journée de séminaires centrée sur la thématique de son choix. Ces journées sont ainsi l'occasion… @plus_info https://calenda-formation.labocleo.org/206579
LOCATION:Aix-en-Provence
END:VEVENT
END:VCALENDAR
