BEGIN:VCALENDAR
VERSION:2.0
PRODID:-//https://calenda-formation.labocleo.org
X-WR-CALNAME:Calenda
X-WR-TIMEZONE:Europe/Paris
CALSCALE:GREGORIAN
X-WR-CALDESC:Le calendrier des lettres et sciences humaines et sociales
METHOD:PUBLISH
BEGIN:VEVENT
DTSTART;VALUE=DATE:20111216
DTEND;VALUE=DATE:20111217
UID:206608-20111216@calenda.revues.org
SUMMARY:Deux journées d'études « Radio »
URL:https://calenda-formation.labocleo.org/206608
DESCRIPTION:Le séminaire thématique du 15 décembre 2011 en sciences du langage est d’abord l’occasion d’une rencontre scientifique autour des travaux théoriques et applicatifs d’Anne-Catherine Simon\, spécialiste de la prosodie du discours radiophonique\, directri… Weitere Informationen https://calenda-formation.labocleo.org/206608
LOCATION:Montpellier
END:VEVENT
BEGIN:VEVENT
DTSTART;VALUE=DATE:20111215
DTEND;VALUE=DATE:20111216
UID:206608-20111215@calenda.revues.org
SUMMARY:Deux journées d'études « Radio »
URL:https://calenda-formation.labocleo.org/206608
DESCRIPTION:Le séminaire thématique du 15 décembre 2011 en sciences du langage est d’abord l’occasion d’une rencontre scientifique autour des travaux théoriques et applicatifs d’Anne-Catherine Simon\, spécialiste de la prosodie du discours radiophonique\, directri… Weitere Informationen https://calenda-formation.labocleo.org/206608
LOCATION:Montpellier
END:VEVENT
END:VCALENDAR
