BEGIN:VCALENDAR
VERSION:2.0
PRODID:-//https://calenda-formation.labocleo.org
X-WR-CALNAME:Calenda
X-WR-TIMEZONE:Europe/Paris
CALSCALE:GREGORIAN
X-WR-CALDESC:O calendário de letras e de ciências sociais e humanas
METHOD:PUBLISH
BEGIN:VEVENT
DTSTART;VALUE=DATE:20120131
DTEND;VALUE=DATE:20120201
UID:206641-20120131@calenda.revues.org
SUMMARY:Pesquisa qualitativa em saúde
URL:https://calenda-formation.labocleo.org/206641
DESCRIPTION:Já abriu a submissão online de resumos para o V congresso ibero-americano de pesquisa qualitativa em saúde\, subordinado ao lema Circulação de saberes e desafios em saúde\, a decorrer de 11 a 13 de outubro de 2012 no Instituto Superior de Ciências Soci… @plus_info https://calenda-formation.labocleo.org/206641
LOCATION:Lisbon
END:VEVENT
END:VCALENDAR
