BEGIN:VCALENDAR
VERSION:2.0
PRODID:-//https://calenda-formation.labocleo.org
X-WR-CALNAME:Calenda
X-WR-TIMEZONE:Europe/Paris
CALSCALE:GREGORIAN
X-WR-CALDESC:Le calendrier des lettres et sciences humaines et sociales
METHOD:PUBLISH
BEGIN:VEVENT
DTSTART;VALUE=DATE:20120118
DTEND;VALUE=DATE:20120119
UID:206662-20120118@calenda.revues.org
SUMMARY:Revues : outils et objets de l'histoire de l'art (II)
URL:https://calenda-formation.labocleo.org/206662
DESCRIPTION:Après une première édition en 2011\, l’équipe « Histoire de l’histoire de l’art » de l’INHA poursuit son exploration de la revue comme support et objet des recherches en histoire de l’art. Ayant dans un premier temps envisagé ses positionnements compl… @plus_info https://calenda-formation.labocleo.org/206662
LOCATION:Paris
END:VEVENT
BEGIN:VEVENT
DTSTART;VALUE=DATE:20120229
DTEND;VALUE=DATE:20120301
UID:206662-20120229@calenda.revues.org
SUMMARY:Revues : outils et objets de l'histoire de l'art (II)
URL:https://calenda-formation.labocleo.org/206662
DESCRIPTION:Après une première édition en 2011\, l’équipe « Histoire de l’histoire de l’art » de l’INHA poursuit son exploration de la revue comme support et objet des recherches en histoire de l’art. Ayant dans un premier temps envisagé ses positionnements compl… @plus_info https://calenda-formation.labocleo.org/206662
LOCATION:Paris
END:VEVENT
BEGIN:VEVENT
DTSTART;VALUE=DATE:20120328
DTEND;VALUE=DATE:20120329
UID:206662-20120328@calenda.revues.org
SUMMARY:Revues : outils et objets de l'histoire de l'art (II)
URL:https://calenda-formation.labocleo.org/206662
DESCRIPTION:Après une première édition en 2011\, l’équipe « Histoire de l’histoire de l’art » de l’INHA poursuit son exploration de la revue comme support et objet des recherches en histoire de l’art. Ayant dans un premier temps envisagé ses positionnements compl… @plus_info https://calenda-formation.labocleo.org/206662
LOCATION:Paris
END:VEVENT
BEGIN:VEVENT
DTSTART;VALUE=DATE:20120502
DTEND;VALUE=DATE:20120503
UID:206662-20120502@calenda.revues.org
SUMMARY:Revues : outils et objets de l'histoire de l'art (II)
URL:https://calenda-formation.labocleo.org/206662
DESCRIPTION:Après une première édition en 2011\, l’équipe « Histoire de l’histoire de l’art » de l’INHA poursuit son exploration de la revue comme support et objet des recherches en histoire de l’art. Ayant dans un premier temps envisagé ses positionnements compl… @plus_info https://calenda-formation.labocleo.org/206662
LOCATION:Paris
END:VEVENT
BEGIN:VEVENT
DTSTART;VALUE=DATE:20120530
DTEND;VALUE=DATE:20120531
UID:206662-20120530@calenda.revues.org
SUMMARY:Revues : outils et objets de l'histoire de l'art (II)
URL:https://calenda-formation.labocleo.org/206662
DESCRIPTION:Après une première édition en 2011\, l’équipe « Histoire de l’histoire de l’art » de l’INHA poursuit son exploration de la revue comme support et objet des recherches en histoire de l’art. Ayant dans un premier temps envisagé ses positionnements compl… @plus_info https://calenda-formation.labocleo.org/206662
LOCATION:Paris
END:VEVENT
BEGIN:VEVENT
DTSTART;VALUE=DATE:20120613
DTEND;VALUE=DATE:20120614
UID:206662-20120613@calenda.revues.org
SUMMARY:Revues : outils et objets de l'histoire de l'art (II)
URL:https://calenda-formation.labocleo.org/206662
DESCRIPTION:Après une première édition en 2011\, l’équipe « Histoire de l’histoire de l’art » de l’INHA poursuit son exploration de la revue comme support et objet des recherches en histoire de l’art. Ayant dans un premier temps envisagé ses positionnements compl… @plus_info https://calenda-formation.labocleo.org/206662
LOCATION:Paris
END:VEVENT
END:VCALENDAR
