BEGIN:VCALENDAR
VERSION:2.0
PRODID:-//https://calenda-formation.labocleo.org
X-WR-CALNAME:Calenda
X-WR-TIMEZONE:Europe/Paris
CALSCALE:GREGORIAN
X-WR-CALDESC:Le calendrier des lettres et sciences humaines et sociales
METHOD:PUBLISH
BEGIN:VEVENT
DTSTART;VALUE=DATE:20120106
DTEND;VALUE=DATE:20120107
UID:206682-20120106@calenda.revues.org
SUMMARY:Les mots de l’histoire : historiens allemands et français face à leurs concepts et à leurs outils
URL:https://calenda-formation.labocleo.org/206682
DESCRIPTION:En passant les frontières géographiques et (donc) disciplinaires\, le séminaire engage à découvrir la façon dont les autres font de l’histoire\, ce qui revient aussi à découvrir les présupposés de sa propre manière de faire. Étudier l’histoire de l’aut… Weitere Informationen https://calenda-formation.labocleo.org/206682
LOCATION:Paris
END:VEVENT
BEGIN:VEVENT
DTSTART;VALUE=DATE:20120203
DTEND;VALUE=DATE:20120204
UID:206682-20120203@calenda.revues.org
SUMMARY:Les mots de l’histoire : historiens allemands et français face à leurs concepts et à leurs outils
URL:https://calenda-formation.labocleo.org/206682
DESCRIPTION:En passant les frontières géographiques et (donc) disciplinaires\, le séminaire engage à découvrir la façon dont les autres font de l’histoire\, ce qui revient aussi à découvrir les présupposés de sa propre manière de faire. Étudier l’histoire de l’aut… Weitere Informationen https://calenda-formation.labocleo.org/206682
LOCATION:Paris
END:VEVENT
BEGIN:VEVENT
DTSTART;VALUE=DATE:20120323
DTEND;VALUE=DATE:20120324
UID:206682-20120323@calenda.revues.org
SUMMARY:Les mots de l’histoire : historiens allemands et français face à leurs concepts et à leurs outils
URL:https://calenda-formation.labocleo.org/206682
DESCRIPTION:En passant les frontières géographiques et (donc) disciplinaires\, le séminaire engage à découvrir la façon dont les autres font de l’histoire\, ce qui revient aussi à découvrir les présupposés de sa propre manière de faire. Étudier l’histoire de l’aut… Weitere Informationen https://calenda-formation.labocleo.org/206682
LOCATION:Paris
END:VEVENT
BEGIN:VEVENT
DTSTART;VALUE=DATE:20120413
DTEND;VALUE=DATE:20120414
UID:206682-20120413@calenda.revues.org
SUMMARY:Les mots de l’histoire : historiens allemands et français face à leurs concepts et à leurs outils
URL:https://calenda-formation.labocleo.org/206682
DESCRIPTION:En passant les frontières géographiques et (donc) disciplinaires\, le séminaire engage à découvrir la façon dont les autres font de l’histoire\, ce qui revient aussi à découvrir les présupposés de sa propre manière de faire. Étudier l’histoire de l’aut… Weitere Informationen https://calenda-formation.labocleo.org/206682
LOCATION:Paris
END:VEVENT
BEGIN:VEVENT
DTSTART;VALUE=DATE:20120504
DTEND;VALUE=DATE:20120505
UID:206682-20120504@calenda.revues.org
SUMMARY:Les mots de l’histoire : historiens allemands et français face à leurs concepts et à leurs outils
URL:https://calenda-formation.labocleo.org/206682
DESCRIPTION:En passant les frontières géographiques et (donc) disciplinaires\, le séminaire engage à découvrir la façon dont les autres font de l’histoire\, ce qui revient aussi à découvrir les présupposés de sa propre manière de faire. Étudier l’histoire de l’aut… Weitere Informationen https://calenda-formation.labocleo.org/206682
LOCATION:Paris
END:VEVENT
END:VCALENDAR
