BEGIN:VCALENDAR
VERSION:2.0
PRODID:-//https://calenda-formation.labocleo.org
X-WR-CALNAME:Calenda
X-WR-TIMEZONE:Europe/Paris
CALSCALE:GREGORIAN
X-WR-CALDESC:The calendar for arts, humanities and social sciences
METHOD:PUBLISH
BEGIN:VEVENT
DTSTART;VALUE=DATE:20120131
DTEND;VALUE=DATE:20120201
UID:206713-20120131@calenda.revues.org
SUMMARY:Carreira política
URL:https://calenda-formation.labocleo.org/206713
DESCRIPTION:A Revista brasileira de ciência política está aceitando a submissão de artigos para o número 8\, com um dossiê sobre Carreira política. Prazo para envio dos artigos: 31 de janeiro de 2012.… @plus_info https://calenda-formation.labocleo.org/206713
LOCATION:Brasília
END:VEVENT
END:VCALENDAR
