BEGIN:VCALENDAR
VERSION:2.0
PRODID:-//https://calenda-formation.labocleo.org
X-WR-CALNAME:Calenda
X-WR-TIMEZONE:Europe/Paris
CALSCALE:GREGORIAN
X-WR-CALDESC:Le calendrier des lettres et sciences humaines et sociales
METHOD:PUBLISH
BEGIN:VEVENT
DTSTART;VALUE=DATE:20120328
DTEND;VALUE=DATE:20120329
UID:206733-20120328@calenda.revues.org
SUMMARY:Le lien familial à l’aube du XXe siècle
URL:https://calenda-formation.labocleo.org/206733
DESCRIPTION:En dépit des mutations sociétales\, la famille conserve un rôle majeur dans la construction du lien social\, source de solidarité\, d’ouverture\, d’humanité\, de soutien aux personnes en situation de vulnérabilité. Afin de mieux cerner la définition et le… Más informaciones https://calenda-formation.labocleo.org/206733
LOCATION:París
END:VEVENT
END:VCALENDAR
