BEGIN:VCALENDAR
VERSION:2.0
PRODID:-//https://calenda-formation.labocleo.org
X-WR-CALNAME:Calenda
X-WR-TIMEZONE:Europe/Paris
CALSCALE:GREGORIAN
X-WR-CALDESC:The calendar for arts, humanities and social sciences
METHOD:PUBLISH
BEGIN:VEVENT
DTSTART;VALUE=DATE:20120216
DTEND;VALUE=DATE:20120217
UID:206737-20120216@calenda.revues.org
SUMMARY:Questions of ornaments\, 15th-18th century
URL:https://calenda-formation.labocleo.org/206737
DESCRIPTION:Face au regain d’intérêt manifesté autour du thème de l’ornement depuis quelques années\, l’Institut royal du patrimoine artistique (IRPA) et les départements d’histoire de l’art et d’archéologie de l’Université catholique de Louvain (UCL) et des Facu… @plus_info https://calenda-formation.labocleo.org/206737
LOCATION:Brussels
END:VEVENT
BEGIN:VEVENT
DTSTART;VALUE=DATE:20120217
DTEND;VALUE=DATE:20120218
UID:206737-20120217@calenda.revues.org
SUMMARY:Questions of ornaments\, 15th-18th century
URL:https://calenda-formation.labocleo.org/206737
DESCRIPTION:Face au regain d’intérêt manifesté autour du thème de l’ornement depuis quelques années\, l’Institut royal du patrimoine artistique (IRPA) et les départements d’histoire de l’art et d’archéologie de l’Université catholique de Louvain (UCL) et des Facu… @plus_info https://calenda-formation.labocleo.org/206737
LOCATION:Brussels
END:VEVENT
END:VCALENDAR
