BEGIN:VCALENDAR
VERSION:2.0
PRODID:-//https://calenda-formation.labocleo.org
X-WR-CALNAME:Calenda
X-WR-TIMEZONE:Europe/Paris
CALSCALE:GREGORIAN
X-WR-CALDESC:Le calendrier des lettres et sciences humaines et sociales
METHOD:PUBLISH
BEGIN:VEVENT
DTSTART;VALUE=DATE:20120330
DTEND;VALUE=DATE:20120331
UID:206748-20120330@calenda.revues.org
SUMMARY:Eau\, énergies renouvelables et environnement
URL:https://calenda-formation.labocleo.org/206748
DESCRIPTION:L’Association du développement sans frontières (ADSF) consacre le dossier du premier numéro de sa publication  au thème suivant : « eau\, énergies renouvelables et environnement ». La Revue du développement sans frontières se veut un lieu de débat\, de… Más informaciones https://calenda-formation.labocleo.org/206748
LOCATION:Beni Mellal
END:VEVENT
END:VCALENDAR
