BEGIN:VCALENDAR
VERSION:2.0
PRODID:-//https://calenda-formation.labocleo.org
X-WR-CALNAME:Calenda
X-WR-TIMEZONE:Europe/Paris
CALSCALE:GREGORIAN
X-WR-CALDESC:Le calendrier des lettres et sciences humaines et sociales
METHOD:PUBLISH
BEGIN:VEVENT
DTSTART;VALUE=DATE:20120131
DTEND;VALUE=DATE:20120201
UID:206779-20120131@calenda.revues.org
SUMMARY:Temporalités et contextes
URL:https://calenda-formation.labocleo.org/206779
DESCRIPTION:« Temporalité et contextes : approches interdisciplinaires entre l’art\, l’histoire et la linguistique » est un colloque international qui a pour but la construction d’espaces de travaux interdisciplinaires entre plusieurs sciences humaines et sociale… @plus_info https://calenda-formation.labocleo.org/206779
LOCATION:Madrid
END:VEVENT
END:VCALENDAR
