BEGIN:VCALENDAR
VERSION:2.0
PRODID:-//https://calenda-formation.labocleo.org
X-WR-CALNAME:Calenda
X-WR-TIMEZONE:Europe/Paris
CALSCALE:GREGORIAN
X-WR-CALDESC:The calendar for arts, humanities and social sciences
METHOD:PUBLISH
BEGIN:VEVENT
DTSTART;VALUE=DATE:20120215
DTEND;VALUE=DATE:20120216
UID:206847-20120215@calenda.revues.org
SUMMARY:Afghanistan and Pakistan and the forthcoming disengagement of American military forces
URL:https://calenda-formation.labocleo.org/206847
DESCRIPTION:La revue EurOrient prépare un numéro (n° 39 du printemps 2012) sur le thème suivant : « L’AFPAK à l’aune du désengagement militaire américain  programmé : bilan contrasté d’une guerre anti-terroriste d’une décennie et enjeux persistants au cœur d’une… @plus_info https://calenda-formation.labocleo.org/206847
LOCATION:Paris
END:VEVENT
END:VCALENDAR
