BEGIN:VCALENDAR
VERSION:2.0
PRODID:-//https://calenda-formation.labocleo.org
X-WR-CALNAME:Calenda
X-WR-TIMEZONE:Europe/Paris
CALSCALE:GREGORIAN
X-WR-CALDESC:The calendar for arts, humanities and social sciences
METHOD:PUBLISH
BEGIN:VEVENT
DTSTART;VALUE=DATE:20120302
DTEND;VALUE=DATE:20120303
UID:206901-20120302@calenda.revues.org
SUMMARY:Franges urbaines et confins territoriaux\, la Gaule dans l'Empire
URL:https://calenda-formation.labocleo.org/206901
DESCRIPTION:« Périphérie »\, « périurbain »\, « franges »\, « confins »... sont autant de termes désignant ce qui borde\, entoure\, cerne\, une entité spatiale comme l'agglomération urbaine ou un territoire de cité. Nous nous interrogerons sur la validité de tels term… @plus_info https://calenda-formation.labocleo.org/206901
LOCATION:Versailles
END:VEVENT
BEGIN:VEVENT
DTSTART;VALUE=DATE:20120301
DTEND;VALUE=DATE:20120302
UID:206901-20120301@calenda.revues.org
SUMMARY:Franges urbaines et confins territoriaux\, la Gaule dans l'Empire
URL:https://calenda-formation.labocleo.org/206901
DESCRIPTION:« Périphérie »\, « périurbain »\, « franges »\, « confins »... sont autant de termes désignant ce qui borde\, entoure\, cerne\, une entité spatiale comme l'agglomération urbaine ou un territoire de cité. Nous nous interrogerons sur la validité de tels term… @plus_info https://calenda-formation.labocleo.org/206901
LOCATION:Versailles
END:VEVENT
BEGIN:VEVENT
DTSTART;VALUE=DATE:20120229
DTEND;VALUE=DATE:20120301
UID:206901-20120229@calenda.revues.org
SUMMARY:Franges urbaines et confins territoriaux\, la Gaule dans l'Empire
URL:https://calenda-formation.labocleo.org/206901
DESCRIPTION:« Périphérie »\, « périurbain »\, « franges »\, « confins »... sont autant de termes désignant ce qui borde\, entoure\, cerne\, une entité spatiale comme l'agglomération urbaine ou un territoire de cité. Nous nous interrogerons sur la validité de tels term… @plus_info https://calenda-formation.labocleo.org/206901
LOCATION:Versailles
END:VEVENT
BEGIN:VEVENT
DTSTART;VALUE=DATE:20120303
DTEND;VALUE=DATE:20120304
UID:206901-20120303@calenda.revues.org
SUMMARY:Franges urbaines et confins territoriaux\, la Gaule dans l'Empire
URL:https://calenda-formation.labocleo.org/206901
DESCRIPTION:« Périphérie »\, « périurbain »\, « franges »\, « confins »... sont autant de termes désignant ce qui borde\, entoure\, cerne\, une entité spatiale comme l'agglomération urbaine ou un territoire de cité. Nous nous interrogerons sur la validité de tels term… @plus_info https://calenda-formation.labocleo.org/206901
LOCATION:Versailles
END:VEVENT
END:VCALENDAR
