BEGIN:VCALENDAR
VERSION:2.0
PRODID:-//https://calenda-formation.labocleo.org
X-WR-CALNAME:Calenda
X-WR-TIMEZONE:Europe/Paris
CALSCALE:GREGORIAN
X-WR-CALDESC:The calendar for arts, humanities and social sciences
METHOD:PUBLISH
BEGIN:VEVENT
DTSTART;VALUE=DATE:20120525
DTEND;VALUE=DATE:20120526
UID:206947-20120525@calenda.revues.org
SUMMARY:Transatlantic perpectives on the integration of Burgundy in the kingdom of France in the modern era
URL:https://calenda-formation.labocleo.org/206947
DESCRIPTION:Depuis les travaux pionniers de Robert Forster (1971)\, la Bourgogne s’est installée durablement dans le paysage historiographique de langue anglaise où elle jouit d’une notoriété souvent insoupçonnée des Bourguignons eux-mêmes. … @plus_info https://calenda-formation.labocleo.org/206947
LOCATION:Dijon
END:VEVENT
BEGIN:VEVENT
DTSTART;VALUE=DATE:20120524
DTEND;VALUE=DATE:20120525
UID:206947-20120524@calenda.revues.org
SUMMARY:Transatlantic perpectives on the integration of Burgundy in the kingdom of France in the modern era
URL:https://calenda-formation.labocleo.org/206947
DESCRIPTION:Depuis les travaux pionniers de Robert Forster (1971)\, la Bourgogne s’est installée durablement dans le paysage historiographique de langue anglaise où elle jouit d’une notoriété souvent insoupçonnée des Bourguignons eux-mêmes. … @plus_info https://calenda-formation.labocleo.org/206947
LOCATION:Dijon
END:VEVENT
END:VCALENDAR
