BEGIN:VCALENDAR
VERSION:2.0
PRODID:-//https://calenda-formation.labocleo.org
X-WR-CALNAME:Calenda
X-WR-TIMEZONE:Europe/Paris
CALSCALE:GREGORIAN
X-WR-CALDESC:Le calendrier des lettres et sciences humaines et sociales
METHOD:PUBLISH
BEGIN:VEVENT
DTSTART;VALUE=DATE:20120125
DTEND;VALUE=DATE:20120126
UID:206979-20120125@calenda.revues.org
SUMMARY:Matérialités des textes
URL:https://calenda-formation.labocleo.org/206979
DESCRIPTION:Que ce soit à des fins de recherche ou d'édition\, l'acquisition d'un texte comportant d'importantes fluctuations graphiques ou transcrivant un idiome non standardisé soulève de multiples questions. La part des contraintes liées aux supports matériels… @plus_info https://calenda-formation.labocleo.org/206979
LOCATION:Villejuif
END:VEVENT
END:VCALENDAR
